BEGIN:VCALENDAR
VERSION:2.0
PRODID:-//The Velvet Note - ECPv6.15.20//NONSGML v1.0//EN
CALSCALE:GREGORIAN
METHOD:PUBLISH
X-WR-CALNAME:The Velvet Note
X-ORIGINAL-URL:https://thevelvetnote.com
X-WR-CALDESC:Events for The Velvet Note
REFRESH-INTERVAL;VALUE=DURATION:PT1H
X-Robots-Tag:noindex
X-PUBLISHED-TTL:PT1H
BEGIN:VTIMEZONE
TZID:America/New_York
BEGIN:DAYLIGHT
TZOFFSETFROM:-0500
TZOFFSETTO:-0400
TZNAME:EDT
DTSTART:20220313T070000
END:DAYLIGHT
BEGIN:STANDARD
TZOFFSETFROM:-0400
TZOFFSETTO:-0500
TZNAME:EST
DTSTART:20221106T060000
END:STANDARD
BEGIN:DAYLIGHT
TZOFFSETFROM:-0500
TZOFFSETTO:-0400
TZNAME:EDT
DTSTART:20230312T070000
END:DAYLIGHT
BEGIN:STANDARD
TZOFFSETFROM:-0400
TZOFFSETTO:-0500
TZNAME:EST
DTSTART:20231105T060000
END:STANDARD
BEGIN:DAYLIGHT
TZOFFSETFROM:-0500
TZOFFSETTO:-0400
TZNAME:EDT
DTSTART:20240310T070000
END:DAYLIGHT
BEGIN:STANDARD
TZOFFSETFROM:-0400
TZOFFSETTO:-0500
TZNAME:EST
DTSTART:20241103T060000
END:STANDARD
END:VTIMEZONE
BEGIN:VEVENT
DTSTART;TZID=America/New_York:20230602T193000
DTEND;TZID=America/New_York:20230602T230000
DTSTAMP:20260423T152559
CREATED:20230523T184847Z
LAST-MODIFIED:20230523T184911Z
UID:28970-1685734200-1685746800@thevelvetnote.com
SUMMARY:Friday\, June 2nd:  Cuban Singer Jessie Diaz
DESCRIPTION:FRIDAY SHOWTIMES:  7:30PM AND 9:30PM \n\n\n\nAlso starring world-renowned percussionist Frankie Quinones! \n\n\n\nJessy Díaz is a highly motivated and energetic musician (singer\, percussionist\, musicologist\, and teacher) with international exposure. Originally from Cuba\, as a performer she focuses on the Latin jazz\, cha-cha-cha\, danzón\, son\, mambo\, and bolero genres. Not only is she an excellent singer\, she is also competent in playing a wide range of musical instruments. As a multi-instrumentalist artist and music teaching professional\, she endeavors to give her all in each single performance and project and is fully committed to providing a solid education and instilling music appreciation in all her students. \n\n\n\nBefore emigrating to the U.S.\, Jessy had the opportunity to perform with the Matanzas Symphonic Orchestra (Matanzas\, Cuba)\, University of Arts Symphonic Orchestra (Havana\, Cuba)\, Failde Youth Band (Matanzas\, Cuba)\, and Suns of Cuba (Matanzas\, Cuba). \n\n\n\nOne of the highlights of her career include a performance for President Barack Obama during a Cuban State Dinner in Havana\, Cuba\, on March 21\, 2016. Since arriving in the U.S. in 2017\, she has performed at various venues in Florida and Georgia.
URL:https://thevelvetnote.com/event/friday-june-2nd-cuban-singer-jessie-diaz/
LOCATION:The Velvet Note Main Stage\, 4075 Old Milton Parkway\, Alpharetta\, 30005\, United States
ATTACH;FMTTYPE=image/jpeg:https://thevelvetnote.com/wp-content/uploads/2023/05/2D436DB1-6D3C-4AEF-8B44-F9485FA49240.jpeg
END:VEVENT
END:VCALENDAR