BEGIN:VCALENDAR
VERSION:2.0
PRODID:-//The Velvet Note - ECPv6.15.20//NONSGML v1.0//EN
CALSCALE:GREGORIAN
METHOD:PUBLISH
X-ORIGINAL-URL:https://thevelvetnote.com
X-WR-CALDESC:Events for The Velvet Note
REFRESH-INTERVAL;VALUE=DURATION:PT1H
X-Robots-Tag:noindex
X-PUBLISHED-TTL:PT1H
BEGIN:VTIMEZONE
TZID:America/New_York
BEGIN:DAYLIGHT
TZOFFSETFROM:-0500
TZOFFSETTO:-0400
TZNAME:EDT
DTSTART:20220313T070000
END:DAYLIGHT
BEGIN:STANDARD
TZOFFSETFROM:-0400
TZOFFSETTO:-0500
TZNAME:EST
DTSTART:20221106T060000
END:STANDARD
BEGIN:DAYLIGHT
TZOFFSETFROM:-0500
TZOFFSETTO:-0400
TZNAME:EDT
DTSTART:20230312T070000
END:DAYLIGHT
BEGIN:STANDARD
TZOFFSETFROM:-0400
TZOFFSETTO:-0500
TZNAME:EST
DTSTART:20231105T060000
END:STANDARD
BEGIN:DAYLIGHT
TZOFFSETFROM:-0500
TZOFFSETTO:-0400
TZNAME:EDT
DTSTART:20240310T070000
END:DAYLIGHT
BEGIN:STANDARD
TZOFFSETFROM:-0400
TZOFFSETTO:-0500
TZNAME:EST
DTSTART:20241103T060000
END:STANDARD
END:VTIMEZONE
BEGIN:VEVENT
DTSTART;TZID=America/New_York:20230528T190000
DTEND;TZID=America/New_York:20230528T203000
DTSTAMP:20260423T165043
CREATED:20230404T033912Z
LAST-MODIFIED:20230404T034752Z
UID:28859-1685300400-1685305800@thevelvetnote.com
SUMMARY:Sunday\, May 28th:  The C4 Experience
DESCRIPTION:ONE SHOW ONLY @ 7:00pm.  This quartet\, simply called C4\, is the brainchild of percussionist\, composer\, and conductor Casen Alesi. Casen is currently a freshman percussion performance major at Kennesaw State University. He has already established himself as a force of nature in the percussion world as a performer and promoter of new music both in the world of classical and jazz. He has commissioned multiple world premieres and performed alongside the industry’s best\, including Joseph Alessi and John Faddis. Comprised of fellow Kennesaw State jazz musicians Owen Anderson on guitar\, Matteo Staciarine and Brandon Lewis alternating on piano\, and Eisen Griffen on bass\, C4 brings the next generation of jazz musicians to your backyard. With the ability to flow from bebop to hip-hop and everywhere in between\, C4 presents a night of music that’ll be genuinely unforgettable.
URL:https://thevelvetnote.com/event/sunday-may-28th-the-c4-experience/
LOCATION:The Velvet Note Main Stage\, 4075 Old Milton Parkway\, Alpharetta\, 30005\, United States
ATTACH;FMTTYPE=image/jpeg:https://thevelvetnote.com/wp-content/uploads/2023/04/PXL_20220731_170427493.MP-4-scaled.jpg
END:VEVENT
END:VCALENDAR