BEGIN:VCALENDAR
VERSION:2.0
PRODID:-//The Velvet Note - ECPv6.15.20//NONSGML v1.0//EN
CALSCALE:GREGORIAN
METHOD:PUBLISH
X-WR-CALNAME:The Velvet Note
X-ORIGINAL-URL:https://thevelvetnote.com
X-WR-CALDESC:Events for The Velvet Note
REFRESH-INTERVAL;VALUE=DURATION:PT1H
X-Robots-Tag:noindex
X-PUBLISHED-TTL:PT1H
BEGIN:VTIMEZONE
TZID:America/New_York
BEGIN:DAYLIGHT
TZOFFSETFROM:-0500
TZOFFSETTO:-0400
TZNAME:EDT
DTSTART:20220313T070000
END:DAYLIGHT
BEGIN:STANDARD
TZOFFSETFROM:-0400
TZOFFSETTO:-0500
TZNAME:EST
DTSTART:20221106T060000
END:STANDARD
BEGIN:DAYLIGHT
TZOFFSETFROM:-0500
TZOFFSETTO:-0400
TZNAME:EDT
DTSTART:20230312T070000
END:DAYLIGHT
BEGIN:STANDARD
TZOFFSETFROM:-0400
TZOFFSETTO:-0500
TZNAME:EST
DTSTART:20231105T060000
END:STANDARD
BEGIN:DAYLIGHT
TZOFFSETFROM:-0500
TZOFFSETTO:-0400
TZNAME:EDT
DTSTART:20240310T070000
END:DAYLIGHT
BEGIN:STANDARD
TZOFFSETFROM:-0400
TZOFFSETTO:-0500
TZNAME:EST
DTSTART:20241103T060000
END:STANDARD
END:VTIMEZONE
BEGIN:VEVENT
DTSTART;TZID=America/New_York:20230527T193000
DTEND;TZID=America/New_York:20230527T230000
DTSTAMP:20260423T165003
CREATED:20230503T174047Z
LAST-MODIFIED:20230523T130717Z
UID:28941-1685215800-1685228400@thevelvetnote.com
SUMMARY:Saturday\, May 27th:  Slim Gambill & The Second Guesses w/ Andre Manga\, Jordan Carter and Les Hall
DESCRIPTION:SHOWTIMES: 7:30PM AND 9:30PM. An evening of an all-over-the-map\, all-things-considered musical grab bag. Intermingling Slim’s original contemporary jazz music (as heard on Sirius/XM Watercoors\, WCLK Atlanta and WJZA Atlanta)\, with everything from 90’s R&B\, Latin-Island-Afrobeat fusion\, 70’s smooth jazz\, 80’s rock\, maybe an action Jazz Standard and…well\, you get the picture. There’s never been a dull moment when Slim Gambill comes to the Velvet Note\, and evenly his usual standards\, this is a night that will surprise and entertain you. And will likely surprise the band too.
URL:https://thevelvetnote.com/event/saturday-may-27th-slim-gambill-the-second-guesses/
LOCATION:The Velvet Note Main Stage\, 4075 Old Milton Parkway\, Alpharetta\, 30005\, United States
ATTACH;FMTTYPE=image/jpeg:https://thevelvetnote.com/wp-content/uploads/2023/05/124F853D-D615-4BC0-917B-DB5FAE2DB477.jpeg
END:VEVENT
END:VCALENDAR