BEGIN:VCALENDAR
VERSION:2.0
PRODID:-//The Velvet Note - ECPv6.15.20//NONSGML v1.0//EN
CALSCALE:GREGORIAN
METHOD:PUBLISH
X-ORIGINAL-URL:https://thevelvetnote.com
X-WR-CALDESC:Events for The Velvet Note
REFRESH-INTERVAL;VALUE=DURATION:PT1H
X-Robots-Tag:noindex
X-PUBLISHED-TTL:PT1H
BEGIN:VTIMEZONE
TZID:America/New_York
BEGIN:DAYLIGHT
TZOFFSETFROM:-0500
TZOFFSETTO:-0400
TZNAME:EDT
DTSTART:20220313T070000
END:DAYLIGHT
BEGIN:STANDARD
TZOFFSETFROM:-0400
TZOFFSETTO:-0500
TZNAME:EST
DTSTART:20221106T060000
END:STANDARD
BEGIN:DAYLIGHT
TZOFFSETFROM:-0500
TZOFFSETTO:-0400
TZNAME:EDT
DTSTART:20230312T070000
END:DAYLIGHT
BEGIN:STANDARD
TZOFFSETFROM:-0400
TZOFFSETTO:-0500
TZNAME:EST
DTSTART:20231105T060000
END:STANDARD
BEGIN:DAYLIGHT
TZOFFSETFROM:-0500
TZOFFSETTO:-0400
TZNAME:EDT
DTSTART:20240310T070000
END:DAYLIGHT
BEGIN:STANDARD
TZOFFSETFROM:-0400
TZOFFSETTO:-0500
TZNAME:EST
DTSTART:20241103T060000
END:STANDARD
END:VTIMEZONE
BEGIN:VEVENT
DTSTART;TZID=America/New_York:20230519T200000
DTEND;TZID=America/New_York:20230519T230000
DTSTAMP:20260423T165110
CREATED:20230503T030730Z
LAST-MODIFIED:20230503T170359Z
UID:28922-1684526400-1684537200@thevelvetnote.com
SUMMARY:Friday\, May 19th:  Deborah Davis & A Few Good Men
DESCRIPTION:SHOWTIMES:  7:30PM AND 9:30PM.   \n\n\n\nAlso Starring: \n\n\n\nLouis Hearivoux ( piano).  \n\n\n\nTommy Sauter ( bass)  \n\n\n\nKermit Walker( drums)  \n\n\n\n \n\n\n\nInternationally acclaimed jazz vocalist Deborah Davis is based in New York City. She makes her debut appearance at The Velvet Note\, accompanied by A Few Good Men from the Atlanta area featuring Louis Hearivoux\, piano\, Tommy Sauter\, bass and Kermit Walker\, drums.  \n\n\n\nDeborah has a natural flowing charm and flawless stage presence that draws you into her show. A native of Dallas\, and UNT alum\, she has toured 35 international countries\, has performed with legendary jazz greats Lionel Hampton\, and Clark Terry\, invited to sing with Freddie Hubbard\, Art Blakey\, and Ray Brown\, did a commercial with Ella Fitzgerald and subbed for Abbey Lincoln. As a band leader she has lead her own bands featuring\, Cyrus Chestnut\, Eric Lewis\, Gerald Clayton\, Benny Green\, Christian McBride\, Peter Washington\, Eric Wheeler\, Russell Malone\, Greg Hutchinson\, Brian Blade\, Willie Jones III and too many more to name. She’s know for her unique phrasing and ability to swing like her life depends on it. As an independent artist she formed “got my own records” producing 3 recordings. She has sung for dignitaries at the U.N. and U.S. Embassy  affairs including a performance for President Bill Clinton\, and toured Latin America as a US Jazz Ambassador. Deborah Davis Music Design\, LLC is music curator and consultant for international hotels\, jazz  clubs\, and music festivals and events. Her charitable contributions include annual benefit shows for The Leukemia & Lymphoma Society and City Meals on Wheels (NYC) .
URL:https://thevelvetnote.com/event/friday-may-19th-deborah-davis-a-few-good-men/
LOCATION:The Velvet Note Main Stage\, 4075 Old Milton Parkway\, Alpharetta\, 30005\, United States
ATTACH;FMTTYPE=image/jpeg:https://thevelvetnote.com/wp-content/uploads/2023/05/Debo.Rose_.hires_.jpg.jpeg
END:VEVENT
END:VCALENDAR