BEGIN:VCALENDAR
VERSION:2.0
PRODID:-//The Velvet Note - ECPv6.15.20//NONSGML v1.0//EN
CALSCALE:GREGORIAN
METHOD:PUBLISH
X-ORIGINAL-URL:https://thevelvetnote.com
X-WR-CALDESC:Events for The Velvet Note
REFRESH-INTERVAL;VALUE=DURATION:PT1H
X-Robots-Tag:noindex
X-PUBLISHED-TTL:PT1H
BEGIN:VTIMEZONE
TZID:America/New_York
BEGIN:DAYLIGHT
TZOFFSETFROM:-0500
TZOFFSETTO:-0400
TZNAME:EDT
DTSTART:20220313T070000
END:DAYLIGHT
BEGIN:STANDARD
TZOFFSETFROM:-0400
TZOFFSETTO:-0500
TZNAME:EST
DTSTART:20221106T060000
END:STANDARD
BEGIN:DAYLIGHT
TZOFFSETFROM:-0500
TZOFFSETTO:-0400
TZNAME:EDT
DTSTART:20230312T070000
END:DAYLIGHT
BEGIN:STANDARD
TZOFFSETFROM:-0400
TZOFFSETTO:-0500
TZNAME:EST
DTSTART:20231105T060000
END:STANDARD
BEGIN:DAYLIGHT
TZOFFSETFROM:-0500
TZOFFSETTO:-0400
TZNAME:EDT
DTSTART:20240310T070000
END:DAYLIGHT
BEGIN:STANDARD
TZOFFSETFROM:-0400
TZOFFSETTO:-0500
TZNAME:EST
DTSTART:20241103T060000
END:STANDARD
END:VTIMEZONE
BEGIN:VEVENT
DTSTART;TZID=America/New_York:20230512T193000
DTEND;TZID=America/New_York:20230512T230000
DTSTAMP:20260423T165109
CREATED:20230502T020845Z
LAST-MODIFIED:20230512T172108Z
UID:28915-1683919800-1683932400@thevelvetnote.com
SUMMARY:Friday\, May 12th:  Mercy Myra w/ Mausiki Scales & The Common Ground
DESCRIPTION:ONE SHOW ONLY: 7:30PM.  \n\n\n\nOne of the most enjoyable entertainers anywhere! \n\n\n\nDefinitely born to sing\, Mercy Myra is lauded as Kenya’s leading female R&B artist\, often viewed as a female pioneer in the Kenyan music scene. She made her mark in the industry with a string of hits from two successful CD releases: Taba Samu (2001) and Nyisri Malong’o (2003). Favorites like “I’m Gonna Fly”\, “Maneno”\, “Life”\, “Imagine” and “Tie Dero” topped the African music charts. International performances\, tours and guest appearances came next\, as well as numerous awards and accolades. She feels very close to her newest single\, “Back Home”\, which touches on the subject of missing her native Kenya. Its grounded yet airy percussions\, as well as a subtle bass line allow the song to have a natural feel\, as if evoking the four elements of nature: water\, air\, fire and earth.  \n\n\n\nABOUT MAUSIKI SCALES \n\n\n\n\n\n\n\nA virtuosic keys player\, Scales also sings\, composes\, arranges\, and plays African percussion instruments. But his musical education started early\, as he trained on piano from the age of eight and loved listening to classic soul music like Earth\, Wind and Fire\, the Emotions\, and Gil Scott-Heron. “One day\, I heard Parliament Funkadelic’s ‘Flashlight’ playing on the boombox and started playing along on the family piano\,” Scales remembered. “I never got it out of my system.”
URL:https://thevelvetnote.com/event/friday-may-12th-mercy-myra/
LOCATION:The Velvet Note Main Stage\, 4075 Old Milton Parkway\, Alpharetta\, 30005\, United States
ATTACH;FMTTYPE=image/jpeg:https://thevelvetnote.com/wp-content/uploads/2023/05/0BECAF50-BA94-488F-A0A7-DD8B1BA3F776.jpeg
END:VEVENT
END:VCALENDAR