BEGIN:VCALENDAR
VERSION:2.0
PRODID:-//The Velvet Note - ECPv6.15.20//NONSGML v1.0//EN
CALSCALE:GREGORIAN
METHOD:PUBLISH
X-ORIGINAL-URL:https://thevelvetnote.com
X-WR-CALDESC:Events for The Velvet Note
REFRESH-INTERVAL;VALUE=DURATION:PT1H
X-Robots-Tag:noindex
X-PUBLISHED-TTL:PT1H
BEGIN:VTIMEZONE
TZID:America/New_York
BEGIN:DAYLIGHT
TZOFFSETFROM:-0500
TZOFFSETTO:-0400
TZNAME:EDT
DTSTART:20220313T070000
END:DAYLIGHT
BEGIN:STANDARD
TZOFFSETFROM:-0400
TZOFFSETTO:-0500
TZNAME:EST
DTSTART:20221106T060000
END:STANDARD
BEGIN:DAYLIGHT
TZOFFSETFROM:-0500
TZOFFSETTO:-0400
TZNAME:EDT
DTSTART:20230312T070000
END:DAYLIGHT
BEGIN:STANDARD
TZOFFSETFROM:-0400
TZOFFSETTO:-0500
TZNAME:EST
DTSTART:20231105T060000
END:STANDARD
BEGIN:DAYLIGHT
TZOFFSETFROM:-0500
TZOFFSETTO:-0400
TZNAME:EDT
DTSTART:20240310T070000
END:DAYLIGHT
BEGIN:STANDARD
TZOFFSETFROM:-0400
TZOFFSETTO:-0500
TZNAME:EST
DTSTART:20241103T060000
END:STANDARD
END:VTIMEZONE
BEGIN:VEVENT
DTSTART;TZID=America/New_York:20230430T190000
DTEND;TZID=America/New_York:20230430T203000
DTSTAMP:20260423T181351
CREATED:20230330T193431Z
LAST-MODIFIED:20230430T192749Z
UID:28829-1682881200-1682886600@thevelvetnote.com
SUMMARY:Sunday\, April 30th:  An Evening with ELEW
DESCRIPTION:ONE SHOW ONLY  7:00PM.  Eric Robert Lewis (born May 13\, 1973)\, popularly known as ELEW\, is an American jazz pianist who has found cross-over success playing rock and pop music. He is known for his unconventional and physical playing style\, which eschews a piano bench and includes reaching inside the piano lid to pull at the strings directly\, as well as the creation that he calls “Rockjazz”\, a genre that “takes the improvisational aspect of jazz and ‘threads it through the eye of the needle of rock.” \n\n\n\nLewis began his career as a jazz purist\, playing as a sideman for jazz artists like Wynton Marsalis\, Cassandra Wilson\, Elvin Jones\, Jon Hendricks\, and Roy Hargrove as well as performing as a member of the Lincoln Center Jazz Orchestra. However\, he eventually became interested in rock music and embarked on a solo career as a crossover musician\, quickly gaining recognition for his instrumental “Rockjazz” piano covers of mainstream rock hits like The Rolling Stones‘ “Paint It\, Black” and The Killers‘ “Mr. Brightside“. He released his first album of instrumental covers\, entitled ELEW Rockjazz Vol. 1\, on his own label\, Ninjazz Entertainment\, in March 2010. \n\n\n\n \n\n\n\nLewis was born in Camden\, New Jersey in 1973\, where he studied piano as a child. He graduated from Overbrook High School in 1991 and then received a Full Merit Scholarship to the Manhattan School of Music\, where he graduated on the Deans List in 1995. 
URL:https://thevelvetnote.com/event/sunday-april-30th-an-evening-with-elew/
LOCATION:The Velvet Note Main Stage\, 4075 Old Milton Parkway\, Alpharetta\, 30005\, United States
ATTACH;FMTTYPE=image/jpeg:https://thevelvetnote.com/wp-content/uploads/2023/03/555E62A1-79F5-4785-B9B2-F3F6D9370888.jpeg
END:VEVENT
END:VCALENDAR