BEGIN:VCALENDAR
VERSION:2.0
PRODID:-//The Velvet Note - ECPv6.15.20//NONSGML v1.0//EN
CALSCALE:GREGORIAN
METHOD:PUBLISH
X-WR-CALNAME:The Velvet Note
X-ORIGINAL-URL:https://thevelvetnote.com
X-WR-CALDESC:Events for The Velvet Note
REFRESH-INTERVAL;VALUE=DURATION:PT1H
X-Robots-Tag:noindex
X-PUBLISHED-TTL:PT1H
BEGIN:VTIMEZONE
TZID:America/New_York
BEGIN:DAYLIGHT
TZOFFSETFROM:-0500
TZOFFSETTO:-0400
TZNAME:EDT
DTSTART:20220313T070000
END:DAYLIGHT
BEGIN:STANDARD
TZOFFSETFROM:-0400
TZOFFSETTO:-0500
TZNAME:EST
DTSTART:20221106T060000
END:STANDARD
BEGIN:DAYLIGHT
TZOFFSETFROM:-0500
TZOFFSETTO:-0400
TZNAME:EDT
DTSTART:20230312T070000
END:DAYLIGHT
BEGIN:STANDARD
TZOFFSETFROM:-0400
TZOFFSETTO:-0500
TZNAME:EST
DTSTART:20231105T060000
END:STANDARD
BEGIN:DAYLIGHT
TZOFFSETFROM:-0500
TZOFFSETTO:-0400
TZNAME:EDT
DTSTART:20240310T070000
END:DAYLIGHT
BEGIN:STANDARD
TZOFFSETFROM:-0400
TZOFFSETTO:-0500
TZNAME:EST
DTSTART:20241103T060000
END:STANDARD
END:VTIMEZONE
BEGIN:VEVENT
DTSTART;TZID=America/New_York:20230429T193000
DTEND;TZID=America/New_York:20230429T230000
DTSTAMP:20260423T181154
CREATED:20230329T023903Z
LAST-MODIFIED:20230329T024243Z
UID:28808-1682796600-1682809200@thevelvetnote.com
SUMMARY:Saturday\, April 29th:  NY-Based Vocalist Shayna Steele
DESCRIPTION:SHOWTIMES:  7:30PM AND 9:30PM. \n\n\n\n\n“In one performance\, California-born\, New York-based vocalist Shayna Steele unleashed enough voltage to light up the West End.” \n\n\n\n\n— London Jazz News \n\n\n\nOne of the greatest singing sensations of our time\, known from recordings with Snarky Puppy and Moby and a host of other stars\, Shayna Steele takes flight on her third album\, “Watch Me Fly”.  Offering six self-penned originals and four select classics ranging from Soul via Blues and Gospel and easily crossing over to retro R&B and Jazz\, showcasing Shayna Steele’s supremely soulful energy\, as well as her mind blowing vocal artistry and songwriting skills.  \n\n\n\n“I am outrageous\, larger than life” are the first words on Shayna Steele’s new album. The few notes she sings to voice them in the aptly named song “Be” already make it clear that this is not braggadocio\, but a fact. The singer\, born in California and raised in Mississippi\,  who as a self-proclaimed “American Air Force brat” grew up all over the world\, but lives and thrives in New York\, not only has a charismatic\, charming and truly unique voice\, but also plenty of technique and the vocal strength of a volcano. Shayna has performed with the likes of Rihanna\, Kelly Clarkson\, Bette Midler and Steely Dan as a sought after background vocalist. Shayna made the decision that being in the background was not an option anymore and has been touring regularly as a featured vocalist with Grammy Award winning trumpeter\, Chris Botti\, was a featured vocalist on Snarky Puppy’s “Family Dinner” and reached #1 on the Dance Billboard charts as a featured vocalist on Moby’s “Disco Lies.” Saying Shayna is ready to step out on her own would be a major understatement. 
URL:https://thevelvetnote.com/event/saturday-march-29th-ny-based-vocalist-shayna-steele/
LOCATION:The Velvet Note Main Stage\, 4075 Old Milton Parkway\, Alpharetta\, 30005\, United States
ATTACH;FMTTYPE=image/jpeg:https://thevelvetnote.com/wp-content/uploads/2023/03/2CC68AF6-6DCE-49D6-A0E1-B592C348B26F.jpeg
END:VEVENT
END:VCALENDAR