BEGIN:VCALENDAR
VERSION:2.0
PRODID:-//The Velvet Note - ECPv6.15.20//NONSGML v1.0//EN
CALSCALE:GREGORIAN
METHOD:PUBLISH
X-ORIGINAL-URL:https://thevelvetnote.com
X-WR-CALDESC:Events for The Velvet Note
REFRESH-INTERVAL;VALUE=DURATION:PT1H
X-Robots-Tag:noindex
X-PUBLISHED-TTL:PT1H
BEGIN:VTIMEZONE
TZID:America/New_York
BEGIN:DAYLIGHT
TZOFFSETFROM:-0500
TZOFFSETTO:-0400
TZNAME:EDT
DTSTART:20220313T070000
END:DAYLIGHT
BEGIN:STANDARD
TZOFFSETFROM:-0400
TZOFFSETTO:-0500
TZNAME:EST
DTSTART:20221106T060000
END:STANDARD
BEGIN:DAYLIGHT
TZOFFSETFROM:-0500
TZOFFSETTO:-0400
TZNAME:EDT
DTSTART:20230312T070000
END:DAYLIGHT
BEGIN:STANDARD
TZOFFSETFROM:-0400
TZOFFSETTO:-0500
TZNAME:EST
DTSTART:20231105T060000
END:STANDARD
BEGIN:DAYLIGHT
TZOFFSETFROM:-0500
TZOFFSETTO:-0400
TZNAME:EDT
DTSTART:20240310T070000
END:DAYLIGHT
BEGIN:STANDARD
TZOFFSETFROM:-0400
TZOFFSETTO:-0500
TZNAME:EST
DTSTART:20241103T060000
END:STANDARD
END:VTIMEZONE
BEGIN:VEVENT
DTSTART;TZID=America/New_York:20230421T193000
DTEND;TZID=America/New_York:20230422T230000
DTSTAMP:20260423T181359
CREATED:20230319T144652Z
LAST-MODIFIED:20230319T144828Z
UID:28782-1682105400-1682204400@thevelvetnote.com
SUMMARY:Friday and Saturday\, April 21st & 22nd:  Singer Nicole Zuraitis
DESCRIPTION:FRIDAY AND SATURDAY SHOWTIMES:  7:30PM AND 9:30PM \n\n\n\n“A heart as big as her remarkable voice”— JAZZ POLICE \n\n\n\n“Stunningly timeless\, immediate. Zuraitis transformed her voice\, opening many musical blades like a Swiss Army knife of singing; bright and light\, then powerful and passionate.”— NIPPERTOWN \n\n\n\n“Zuraitis showcases superb songcraft.”— DOWNBEAT \n\n\n\n \n\n\n\nA GRAMMY-nominated musician and vocal chameleon\, New York-based bandleader and winner of the prestigious 2021 American Traditions Vocal Competition Gold Medal Nicole Zuraitis continues to establish herself as an undeniable force in the modern jazz landscape of both NYC and beyond. Nicole’s bold\, versatile voice possesses a special combination of soothing warmth\, familiar authenticity\, and raw grit that is reinventing the world’s conception of what it means to be a jazz artist. She infuses elements of multiple genres and approaches into her artistry\, refusing to limit herself to any one corner of the music business.
URL:https://thevelvetnote.com/event/friday-and-saturday-april-21st-22nd-singer-nicole-zuraitis/
LOCATION:The Velvet Note Main Stage\, 4075 Old Milton Parkway\, Alpharetta\, 30005\, United States
ATTACH;FMTTYPE=image/jpeg:https://thevelvetnote.com/wp-content/uploads/2023/03/AF2679CC-6AF1-47BF-98F6-D7CF6AAE7214-scaled.jpeg
END:VEVENT
END:VCALENDAR