BEGIN:VCALENDAR
VERSION:2.0
PRODID:-//The Velvet Note - ECPv6.15.20//NONSGML v1.0//EN
CALSCALE:GREGORIAN
METHOD:PUBLISH
X-WR-CALNAME:The Velvet Note
X-ORIGINAL-URL:https://thevelvetnote.com
X-WR-CALDESC:Events for The Velvet Note
REFRESH-INTERVAL;VALUE=DURATION:PT1H
X-Robots-Tag:noindex
X-PUBLISHED-TTL:PT1H
BEGIN:VTIMEZONE
TZID:America/New_York
BEGIN:DAYLIGHT
TZOFFSETFROM:-0500
TZOFFSETTO:-0400
TZNAME:EDT
DTSTART:20220313T070000
END:DAYLIGHT
BEGIN:STANDARD
TZOFFSETFROM:-0400
TZOFFSETTO:-0500
TZNAME:EST
DTSTART:20221106T060000
END:STANDARD
BEGIN:DAYLIGHT
TZOFFSETFROM:-0500
TZOFFSETTO:-0400
TZNAME:EDT
DTSTART:20230312T070000
END:DAYLIGHT
BEGIN:STANDARD
TZOFFSETFROM:-0400
TZOFFSETTO:-0500
TZNAME:EST
DTSTART:20231105T060000
END:STANDARD
BEGIN:DAYLIGHT
TZOFFSETFROM:-0500
TZOFFSETTO:-0400
TZNAME:EDT
DTSTART:20240310T070000
END:DAYLIGHT
BEGIN:STANDARD
TZOFFSETFROM:-0400
TZOFFSETTO:-0500
TZNAME:EST
DTSTART:20241103T060000
END:STANDARD
END:VTIMEZONE
BEGIN:VEVENT
DTSTART;TZID=America/New_York:20230414T193000
DTEND;TZID=America/New_York:20230415T230000
DTSTAMP:20260423T181249
CREATED:20230319T141406Z
LAST-MODIFIED:20230412T190846Z
UID:28778-1681500600-1681599600@thevelvetnote.com
SUMMARY:Friday and Saturday\, April 14th & 15th:  GRAMMY-Winning Trumpeter Nabate Isles
DESCRIPTION:Friday and Saturday Showtimes:  7:30pm and 9:30pm.   Nabaté Isles is a Grammy-winning trumpeter as well as a composer and producer\, born and raised in New York City. Nabaté is releasing his second album called\, En Motion\, to be released on Ropeadope Records on January 27\, 2023. The album features the core lineup of Sam Barsh (also the album’s producer)\, Eric Harland\, Kaveh Rastegar\, David Gilmore and Rachel Eckroth & guests include James Francies\, Ben Wendel\, Victor Provost\, Sasha Berliner\, Badia Farha. Added featured performers on the album are Mumu Fresh\, Kardinal Offishall and Chuck D. \n\n\n\nDuring his high school years\, Nabaté represented the fifth generation of jazz for the preview of the Louis Armstrong Archives\, with trumpet greats Dr. Donald Byrd\, “Doc” Cheatham\, “Dizzy” Gillespie\, Jimmy Owens\, Jon Faddis and Wynton Marsalis. Nabaté also appeared in a Coca-Cola commercial\, directed by John Singleton and produced by Roy Eaton. While attending Eastman\, Nabaté was a featured soloist with the Rochester Pops Orchestra. Nabaté also participated in the Thelonious Monk Institute of Jazz summer program at Aspen Snowmass and its Jazz Gala at the Kennedy Center. He went on to receive his BM from the Eastman School of Music and his MA from New York University.
URL:https://thevelvetnote.com/event/friday-april-14th-saturday-april-15th-grammy-winning-trumpeter-nabate-isles/
ATTACH;FMTTYPE=image/jpeg:https://thevelvetnote.com/wp-content/uploads/2023/03/B09E5E77-B1A4-4290-88E0-B92BFC07D181.jpeg
END:VEVENT
END:VCALENDAR