BEGIN:VCALENDAR
VERSION:2.0
PRODID:-//The Velvet Note - ECPv6.15.20//NONSGML v1.0//EN
CALSCALE:GREGORIAN
METHOD:PUBLISH
X-WR-CALNAME:The Velvet Note
X-ORIGINAL-URL:https://thevelvetnote.com
X-WR-CALDESC:Events for The Velvet Note
REFRESH-INTERVAL;VALUE=DURATION:PT1H
X-Robots-Tag:noindex
X-PUBLISHED-TTL:PT1H
BEGIN:VTIMEZONE
TZID:America/New_York
BEGIN:DAYLIGHT
TZOFFSETFROM:-0500
TZOFFSETTO:-0400
TZNAME:EDT
DTSTART:20220313T070000
END:DAYLIGHT
BEGIN:STANDARD
TZOFFSETFROM:-0400
TZOFFSETTO:-0500
TZNAME:EST
DTSTART:20221106T060000
END:STANDARD
BEGIN:DAYLIGHT
TZOFFSETFROM:-0500
TZOFFSETTO:-0400
TZNAME:EDT
DTSTART:20230312T070000
END:DAYLIGHT
BEGIN:STANDARD
TZOFFSETFROM:-0400
TZOFFSETTO:-0500
TZNAME:EST
DTSTART:20231105T060000
END:STANDARD
BEGIN:DAYLIGHT
TZOFFSETFROM:-0500
TZOFFSETTO:-0400
TZNAME:EDT
DTSTART:20240310T070000
END:DAYLIGHT
BEGIN:STANDARD
TZOFFSETFROM:-0400
TZOFFSETTO:-0500
TZNAME:EST
DTSTART:20241103T060000
END:STANDARD
END:VTIMEZONE
BEGIN:VEVENT
DTSTART;TZID=America/New_York:20230408T193000
DTEND;TZID=America/New_York:20230408T230000
DTSTAMP:20260423T181154
CREATED:20230408T191811Z
LAST-MODIFIED:20230408T191910Z
UID:28873-1680982200-1680994800@thevelvetnote.com
SUMMARY:Saturday\, April 8th:  International Singer Lori Williams
DESCRIPTION:SEATS AVAILABLE AT 9:30!!    Acclaimed international Jazz vocalist Lori Williams has a most impressive resume as a performing artist\, music educator\, songwriter\, producer\, musical theater actress\, radio host\, business owner (PositiveMusicPM.org)\, and artist-in-residence with over 30 years of experience. Her annual vocal jazz tour and performance at music festivals have taken her to Europe (Austria\, Germany\, Slovakia\, Slovenia\, Russia\, Switzerland\, Czech Republic\, and Ukraine)\, Japan\, British Virgin Islands\, and across the USA. Her vocal jazz artist residencies have allowed her to work with and mentor students on college campuses in the United States and abroad.
URL:https://thevelvetnote.com/event/saturday-april-8th-international-singer-lori-williams/
LOCATION:The Velvet Note Main Stage\, 4075 Old Milton Parkway\, Alpharetta\, 30005\, United States
ATTACH;FMTTYPE=image/jpeg:https://thevelvetnote.com/wp-content/uploads/2023/04/F34D2C37-0E63-4489-A903-09B9B311D9F2.jpeg
END:VEVENT
END:VCALENDAR