BEGIN:VCALENDAR
VERSION:2.0
PRODID:-//The Velvet Note - ECPv6.15.20//NONSGML v1.0//EN
CALSCALE:GREGORIAN
METHOD:PUBLISH
X-ORIGINAL-URL:https://thevelvetnote.com
X-WR-CALDESC:Events for The Velvet Note
REFRESH-INTERVAL;VALUE=DURATION:PT1H
X-Robots-Tag:noindex
X-PUBLISHED-TTL:PT1H
BEGIN:VTIMEZONE
TZID:America/New_York
BEGIN:DAYLIGHT
TZOFFSETFROM:-0500
TZOFFSETTO:-0400
TZNAME:EDT
DTSTART:20220313T070000
END:DAYLIGHT
BEGIN:STANDARD
TZOFFSETFROM:-0400
TZOFFSETTO:-0500
TZNAME:EST
DTSTART:20221106T060000
END:STANDARD
BEGIN:DAYLIGHT
TZOFFSETFROM:-0500
TZOFFSETTO:-0400
TZNAME:EDT
DTSTART:20230312T070000
END:DAYLIGHT
BEGIN:STANDARD
TZOFFSETFROM:-0400
TZOFFSETTO:-0500
TZNAME:EST
DTSTART:20231105T060000
END:STANDARD
BEGIN:DAYLIGHT
TZOFFSETFROM:-0500
TZOFFSETTO:-0400
TZNAME:EDT
DTSTART:20240310T070000
END:DAYLIGHT
BEGIN:STANDARD
TZOFFSETFROM:-0400
TZOFFSETTO:-0500
TZNAME:EST
DTSTART:20241103T060000
END:STANDARD
END:VTIMEZONE
BEGIN:VEVENT
DTSTART;TZID=America/New_York:20230406T180000
DTEND;TZID=America/New_York:20230406T190000
DTSTAMP:20260423T181448
CREATED:20230402T215840Z
LAST-MODIFIED:20230402T220547Z
UID:28837-1680804000-1680807600@thevelvetnote.com
SUMMARY:Thursday\, April 6th:  What is Jazz?
DESCRIPTION:Event time:   6pm – 7pm. (before Open Mic Jam)  In celebration of National Jazz Appreciation Month\, The Velvet Note presents a free\, entertaining and educational program that answers the question\, “What is jazz?”  In this fascinating hour\, we explore the unique elements of jazz\, what makes it different from other music\, and lots of insider info you always wanted to know.  Perfect for those who like jazz\, love jazz\, hate jazz\, love someone who hates jazz\, and who have been struggling to understand jazz but never knew who to ask.  Moderated by Jazz Educator Justin Varnes. \n\n\n\nEntry is FREE.  Come to one session\, or enjoy every session throughout the month.  All we ask that you make a reservation so that we will have a seat for you\, and buy something (food or drink) while you’re here. \n\n\n\nFor reserved seats\, call 855.5.VELVET and let the receptionist know your name and the size of your party.
URL:https://thevelvetnote.com/event/thursday-april-6th-what-is-jazz/
LOCATION:The Velvet Note Main Stage\, 4075 Old Milton Parkway\, Alpharetta\, 30005\, United States
ATTACH;FMTTYPE=image/jpeg:https://thevelvetnote.com/wp-content/uploads/2023/04/celebrating-national-jazz-appreciation-month-2.jpg
END:VEVENT
BEGIN:VEVENT
DTSTART;TZID=America/New_York:20230406T200000
DTEND;TZID=America/New_York:20230406T230000
DTSTAMP:20260423T181448
CREATED:20230329T225031Z
LAST-MODIFIED:20230329T225223Z
UID:28818-1680811200-1680822000@thevelvetnote.com
SUMMARY:Thursday\, April 6th:  Open Mic Jam Hosted by Trumpeter/Singer Michael Cruse
DESCRIPTION:Open Mic is a little like Karaoke\, but much\, much better. Come out and listen to or jam with our extraordinary house band\, or take the stage all on your own. This week\, we’ve got trumpeter/Singer Michael Cruse! herding the cats\, so you know it’s gonna be hot! And come hungry and thirsty–we roll out our delicious house and bar specialities for the week\, just for you! \n\n\n\nMichael has performed and studied with jazz greats such as Roy Hargrove\, Les McCann\, JD Allen\, Terence Blanchard\, Javon Jackson\, Lew Soloff\, Wynton Marsalis\, Delfeayo Marsalis\, Jason Marsalis\, John Fedchock\, Fareed Haque\, Vince DiMartino\, Gail Wynters\, Byron Stripling\, Jeff Hamilton\, John Von Ohlen\, and Kevin Harris. Michael has also performed in several groups for Bootsy Collins\, KeKe Wyatt\, Keisha Cole\, Mike Phillips\, Chantae Cann\, Damian Sneed\, Marc Broussard\, and Clyde Brown (Drifters). Michael was also a part of the filming of “Miles Ahead” and portrayed NYC-based trumpeter and recording artist\, Ernie Royal\, starring Don Cheadle as Miles Davis (r. April 2016)\, as well as filming for HBO’s “Lovecraft Country” (released 2020).
URL:https://thevelvetnote.com/event/thursday-open-mic-jam-hosted-by-trumpeter-singer-michael-cruse/
LOCATION:The Velvet Note Main Stage\, 4075 Old Milton Parkway\, Alpharetta\, 30005\, United States
ATTACH;FMTTYPE=image/jpeg:https://thevelvetnote.com/wp-content/uploads/2023/03/Untitled-design-103.jpg
END:VEVENT
END:VCALENDAR