BEGIN:VCALENDAR
VERSION:2.0
PRODID:-//The Velvet Note - ECPv6.15.20//NONSGML v1.0//EN
CALSCALE:GREGORIAN
METHOD:PUBLISH
X-WR-CALNAME:The Velvet Note
X-ORIGINAL-URL:https://thevelvetnote.com
X-WR-CALDESC:Events for The Velvet Note
REFRESH-INTERVAL;VALUE=DURATION:PT1H
X-Robots-Tag:noindex
X-PUBLISHED-TTL:PT1H
BEGIN:VTIMEZONE
TZID:America/New_York
BEGIN:DAYLIGHT
TZOFFSETFROM:-0500
TZOFFSETTO:-0400
TZNAME:EDT
DTSTART:20220313T070000
END:DAYLIGHT
BEGIN:STANDARD
TZOFFSETFROM:-0400
TZOFFSETTO:-0500
TZNAME:EST
DTSTART:20221106T060000
END:STANDARD
BEGIN:DAYLIGHT
TZOFFSETFROM:-0500
TZOFFSETTO:-0400
TZNAME:EDT
DTSTART:20230312T070000
END:DAYLIGHT
BEGIN:STANDARD
TZOFFSETFROM:-0400
TZOFFSETTO:-0500
TZNAME:EST
DTSTART:20231105T060000
END:STANDARD
BEGIN:DAYLIGHT
TZOFFSETFROM:-0500
TZOFFSETTO:-0400
TZNAME:EDT
DTSTART:20240310T070000
END:DAYLIGHT
BEGIN:STANDARD
TZOFFSETFROM:-0400
TZOFFSETTO:-0500
TZNAME:EST
DTSTART:20241103T060000
END:STANDARD
END:VTIMEZONE
BEGIN:VEVENT
DTSTART;TZID=America/New_York:20230311T193000
DTEND;TZID=America/New_York:20230311T230000
DTSTAMP:20260423T194559
CREATED:20230120T132626Z
LAST-MODIFIED:20230311T190140Z
UID:28578-1678563000-1678575600@thevelvetnote.com
SUMMARY:Saturday\, March 11th:  Bob Bakert--Timeless   *** 6 SEATS REMAINING ***
DESCRIPTION:SHOWTIMES:  7:30PM & 9:30PM.  Music from the 1960s and 70s was incredibly influential and shaped the sound of rock for years to come. Many of the bands from that time were extremely innovative\, and their records still sound fresh today. There’s just something timeless about the music from that era – it’s catchy\, well-written\, and has an energy that’s hard to find in contemporary music and it’s why fans of all ages still enjoy the sounds of this classic era today. \n\n\n\nFor the last several years Bob Bakert has been bringing the great late 60s early 70s songs of the Beatles\, Cream\, Eric Clapton\, Sting\, Jeff Beck and many more to the Thursday night world famous Velvet Note Open Mic Jam.  These performances have been crowd favorites and the band has a great time playing them. Both the crowd and band have made it clear that they want to play and hear MORE of these interpretations.   \n\n\n\nOn March 11th\, Bob Bakert and The World Class Velvet Note house band join energies to do TWO shows of these crowd favorites.  Hearing these great songs played as only these musicians can do through their high energy jazz musical filters is a show you don’t want to miss!  Timeless is 60s and early 70s rock/pop tunes jazzified\, and if you’re a fan of the feeling and music of this era\, you will love it. \n\n\n\nTHE BAND – Randy Hoexter – piano\, Bill Hart – guitar\, Andre Manga – bass and Yakou Daniel – drums and Bob Bakert – guitar and vocals.
URL:https://thevelvetnote.com/event/saturday-march-11th-bob-bakert-timeless/
ATTACH;FMTTYPE=image/jpeg:https://thevelvetnote.com/wp-content/uploads/2023/01/9729BE56-53BB-44D2-9108-5177A8612CEA.jpeg
END:VEVENT
END:VCALENDAR