BEGIN:VCALENDAR
VERSION:2.0
PRODID:-//The Velvet Note - ECPv6.15.20//NONSGML v1.0//EN
CALSCALE:GREGORIAN
METHOD:PUBLISH
X-ORIGINAL-URL:https://thevelvetnote.com
X-WR-CALDESC:Events for The Velvet Note
REFRESH-INTERVAL;VALUE=DURATION:PT1H
X-Robots-Tag:noindex
X-PUBLISHED-TTL:PT1H
BEGIN:VTIMEZONE
TZID:America/New_York
BEGIN:DAYLIGHT
TZOFFSETFROM:-0500
TZOFFSETTO:-0400
TZNAME:EDT
DTSTART:20220313T070000
END:DAYLIGHT
BEGIN:STANDARD
TZOFFSETFROM:-0400
TZOFFSETTO:-0500
TZNAME:EST
DTSTART:20221106T060000
END:STANDARD
BEGIN:DAYLIGHT
TZOFFSETFROM:-0500
TZOFFSETTO:-0400
TZNAME:EDT
DTSTART:20230312T070000
END:DAYLIGHT
BEGIN:STANDARD
TZOFFSETFROM:-0400
TZOFFSETTO:-0500
TZNAME:EST
DTSTART:20231105T060000
END:STANDARD
BEGIN:DAYLIGHT
TZOFFSETFROM:-0500
TZOFFSETTO:-0400
TZNAME:EDT
DTSTART:20240310T070000
END:DAYLIGHT
BEGIN:STANDARD
TZOFFSETFROM:-0400
TZOFFSETTO:-0500
TZNAME:EST
DTSTART:20241103T060000
END:STANDARD
END:VTIMEZONE
BEGIN:VEVENT
DTSTART;TZID=America/New_York:20230310T193000
DTEND;TZID=America/New_York:20230310T230000
DTSTAMP:20260423T194649
CREATED:20230301T012802Z
LAST-MODIFIED:20230301T013201Z
UID:28712-1678476600-1678489200@thevelvetnote.com
SUMMARY:Friday\, March 10th:  Mike Jones & Friends\, Featuring Celebrity Drummer Lil' John Roberts
DESCRIPTION:SHOWTIMES:  7:30pm and 9:30pm.    Saxophonist Mike Jones and Friends features Lil’ John Roberts (drums)\, Godfrey Geranium (keys) and Joel Powell (bass) taking a deep dive into straight ahead jazz and their original compositions.   \n\n\n\nAbout Lil’ John Roberts: \n\n\n\nOne of the most sought after jazz and R&B drummers of his generation\, John “Lil’ John” Roberts ’92(Opens in a new window) has maintained his status in the industry as a force to be reckoned with. A native of Philadelphia\, Roberts quickly became noted as a child prodigy\, playing alongside Christian McBride and Joey Defranceso at the age of 16. Collectively\, the trio was also a part of the Duke Ellington Orchestra\, a project created and directed by Wynton Marsalis\, composed of 22 of the countries best young jazz musicians. \n\n\n\nRoberts’ formal studies began in 1991 when he was awarded a full scholarship to study at Berklee College of Music in Boston\, Massachusetts\, afterwards pursuing a touring career starting with R&B and hip-hop artist Jazzy Jeff and the Fresh Prince (Will Smith). He later went on to tour with Dionne Farris\, Excape\, Monica\, the Goodie Mob\, and Joi\, and soon after that was called to fill the shoes of drummer Jonathan Moffett touring with Janet Jackson at the very early age of 23. Roberts completed three successful tours with Janet Jackson that opened the doors to a whole new world of opportunities.  \n\n\n\nHis list of credits also include many of the industries greatest such as Stevie Wonder\, Quincy Jones\, Prince\, Sheila E.\, Mary J. Blige\, Michael Jackson\, Elton John\, Al Green\, B.B. King\, Paula Abdul\, Yolanda Adams\, Bruce Parham\, BeBe and CeCe Winans\, Patti LaBelle\, Juanita Bynum\, India.Arie\, Queen Latifah\, Musiq Soulchild (musical director)\, Jill Scott\, Bilal\, Jamie Foxx\, Snoop Dogg\, and countless others. \n\n\n\nRoberts’s television credits include: the Ray Charles Tribute\, American Idol\, The American Music Awards\, Billboard Awards\, Image Awards\, VH1 Fashion Awards\, the Tonight Show with Jay Leno\, the Late Show with David Letterman\, Chris Rock\, Oprah\, the Ellen DeGeneres Show\, Good Morning America\, Jimmy Kimmel Live\, the Arsenio Hall Show\, The View\, Saturday Night Live and the pre-Grammy show. Roberts was also seen weeknights in the house band on the Mo’Nique Show\, BET’s late night talk show.  Currently he divides his time between performances and is faculty position at his alma mater\, Berklee College of Music.
URL:https://thevelvetnote.com/event/friday-march-10th-mike-jones-friends-featuring-celebrity-drummer-lil-john-roberts/
LOCATION:The Velvet Note Main Stage\, 4075 Old Milton Parkway\, Alpharetta\, 30005\, United States
ATTACH;FMTTYPE=image/jpeg:https://thevelvetnote.com/wp-content/uploads/2023/02/Untitled-design-102.jpg
END:VEVENT
END:VCALENDAR