BEGIN:VCALENDAR
VERSION:2.0
PRODID:-//The Velvet Note - ECPv6.15.20//NONSGML v1.0//EN
CALSCALE:GREGORIAN
METHOD:PUBLISH
X-ORIGINAL-URL:https://thevelvetnote.com
X-WR-CALDESC:Events for The Velvet Note
REFRESH-INTERVAL;VALUE=DURATION:PT1H
X-Robots-Tag:noindex
X-PUBLISHED-TTL:PT1H
BEGIN:VTIMEZONE
TZID:America/New_York
BEGIN:DAYLIGHT
TZOFFSETFROM:-0500
TZOFFSETTO:-0400
TZNAME:EDT
DTSTART:20220313T070000
END:DAYLIGHT
BEGIN:STANDARD
TZOFFSETFROM:-0400
TZOFFSETTO:-0500
TZNAME:EST
DTSTART:20221106T060000
END:STANDARD
BEGIN:DAYLIGHT
TZOFFSETFROM:-0500
TZOFFSETTO:-0400
TZNAME:EDT
DTSTART:20230312T070000
END:DAYLIGHT
BEGIN:STANDARD
TZOFFSETFROM:-0400
TZOFFSETTO:-0500
TZNAME:EST
DTSTART:20231105T060000
END:STANDARD
BEGIN:DAYLIGHT
TZOFFSETFROM:-0500
TZOFFSETTO:-0400
TZNAME:EDT
DTSTART:20240310T070000
END:DAYLIGHT
BEGIN:STANDARD
TZOFFSETFROM:-0400
TZOFFSETTO:-0500
TZNAME:EST
DTSTART:20241103T060000
END:STANDARD
END:VTIMEZONE
BEGIN:VEVENT
DTSTART;TZID=America/New_York:20230305T193000
DTEND;TZID=America/New_York:20230305T210000
DTSTAMP:20260423T194649
CREATED:20230228T192145Z
LAST-MODIFIED:20230305T214859Z
UID:28707-1678044600-1678050000@thevelvetnote.com
SUMMARY:Sunday\, March 5th:  Stand Back-- The Kristin Tinsley Band  *** SOLD OUT!!  SOLD OUT!!   SOLD OUT!!  SOLD OUT!!  ***
DESCRIPTION:ONE SHOW ONLY:  Kristin Tinsley has the voice\, the attitude\, the passion and most certainly the talent in a broad range of musical styles.  In this performance\, she brings her band together to play a range of timeless selections by classic rock band Fleetwood Mac and their lead singer Stevie Nicks. \n\n\n\n$34. \n\n\n\n*****SOLD OUT!!   SOLD OUT!!   SOLD OUT!!   SOLD OUT!!   SOLD OUT!!   ***
URL:https://thevelvetnote.com/event/sunday-march-5th-stand-back-the-kristin-tinsley-band/
LOCATION:The Velvet Note Main Stage\, 4075 Old Milton Parkway\, Alpharetta\, 30005\, United States
ATTACH;FMTTYPE=image/jpeg:https://thevelvetnote.com/wp-content/uploads/2021/03/Untitled-design-30.jpg
END:VEVENT
END:VCALENDAR