BEGIN:VCALENDAR
VERSION:2.0
PRODID:-//The Velvet Note - ECPv6.15.20//NONSGML v1.0//EN
CALSCALE:GREGORIAN
METHOD:PUBLISH
X-ORIGINAL-URL:https://thevelvetnote.com
X-WR-CALDESC:Events for The Velvet Note
REFRESH-INTERVAL;VALUE=DURATION:PT1H
X-Robots-Tag:noindex
X-PUBLISHED-TTL:PT1H
BEGIN:VTIMEZONE
TZID:America/New_York
BEGIN:DAYLIGHT
TZOFFSETFROM:-0500
TZOFFSETTO:-0400
TZNAME:EDT
DTSTART:20220313T070000
END:DAYLIGHT
BEGIN:STANDARD
TZOFFSETFROM:-0400
TZOFFSETTO:-0500
TZNAME:EST
DTSTART:20221106T060000
END:STANDARD
BEGIN:DAYLIGHT
TZOFFSETFROM:-0500
TZOFFSETTO:-0400
TZNAME:EDT
DTSTART:20230312T070000
END:DAYLIGHT
BEGIN:STANDARD
TZOFFSETFROM:-0400
TZOFFSETTO:-0500
TZNAME:EST
DTSTART:20231105T060000
END:STANDARD
BEGIN:DAYLIGHT
TZOFFSETFROM:-0500
TZOFFSETTO:-0400
TZNAME:EDT
DTSTART:20240310T070000
END:DAYLIGHT
BEGIN:STANDARD
TZOFFSETFROM:-0400
TZOFFSETTO:-0500
TZNAME:EST
DTSTART:20241103T060000
END:STANDARD
END:VTIMEZONE
BEGIN:VEVENT
DTSTART;TZID=America/New_York:20230303T193000
DTEND;TZID=America/New_York:20230304T230000
DTSTAMP:20260423T194648
CREATED:20230221T174525Z
LAST-MODIFIED:20230221T174852Z
UID:28682-1677871800-1677970800@thevelvetnote.com
SUMMARY:Friday and Saturday\, March 3rd & 4th:  The Harper Collective Featuring Eric "ELEW" Lewis
DESCRIPTION:Friday & Saturday SHOWTIMES:   7:30pm & 9:30pm  \n\n\n\nThe Harper Collective\, Featuring Eric “ELEW”Lewis\, Winard Harper and a few other very Special Guests! \n\n\n\nThis Incredible lineup features World Renown touring Artist\, Eric “ELEW” Lewis. In addition to ELEW\, The Harper Collective consists of three members of the Legendary Harper Family\, which includes\, The Harper Brothers co-leader Winard Harper\, Grammy Nominated Trumpeter Terence Harper and international touring bassist Dishan Harper!  \n\n\n\nThe resumes between these amazing musicians are extraordinary. Collectively these musicians have been featured on hundreds of recordings including Grammy nominated and Grammy winning projects! \n\n\n\nThe two featured artists in The Harper Collective\, Eric “ELEW” Lewis and Winard Harper have been an integral part of the New York Jazz scene for decades. They are considered to be among the greatest musicians of their generation!  \n\n\n\nEric “ELEW” Lewis began his career playing as a sideman for jazz artists like Wynton Marsalis\, Cassandra Wilson\, Elvin Jones\, Jon Hendricks\, and Roy Hargrove. ELEW has also performed as a member of the Lincoln Center Jazz Orchestra and has toured and recorded with Josh Groban\, Esperanza Spalding\, Sting\, The Roots and Natalie Cole\, just to name a few. \n\n\n\nWinard Harper was a member of the hit jazz group\, The Harper Brothers\, which gained international success and stardom back in the early 1990’s when they released their hit jazz song entitled Remembrance\, on Verve Record label. Remembrance\, which was written by the senior member of the Harper family\, Danny Harper\, reached number 1 on the billboard charts for 6 straight weeks! Winard has toured and recorded with Dexter Gordon\, Betty Carter\, Jimmy Heath\, Johnny Griffin\, Etta James\, Frank Wes\, Nancy Wilson and many more! \n\n\n\nTerence and Dishan Harper who are some of the youngest members of the Harper Family Dynasty are currently touring around the world. They have played and recorded \n\n\n\nthe Great Curtis Lundi\, Steve Turre\, Jimmy Heath\, Musiq Soulchild\, Solange\, Keith David\, Bobby Watson and Chinese Movie Star and Mandopop artist Andy Lau just to name a few! Terence and Dishan have also appeared on numerous television shows and movies including\, The Orignals as well as the remake of the movie The Color Purple\, directed by Blitz Bazawule and produced by Quincy Jones\, Scott Sanders\, Steven Spielberg and Oprah Winfrey! \n\n\n\nThis is going to be an exceptional event and one of the best shows of the year! Don’t miss it!
URL:https://thevelvetnote.com/event/friday-and-saturday-march-3rd-4th-the-harper-collective-featuring-eric-elew-lewis/
ATTACH;FMTTYPE=image/jpeg:https://thevelvetnote.com/wp-content/uploads/2023/02/Untitled-design-101.jpg
END:VEVENT
END:VCALENDAR