BEGIN:VCALENDAR
VERSION:2.0
PRODID:-//The Velvet Note - ECPv6.15.20//NONSGML v1.0//EN
CALSCALE:GREGORIAN
METHOD:PUBLISH
X-WR-CALNAME:The Velvet Note
X-ORIGINAL-URL:https://thevelvetnote.com
X-WR-CALDESC:Events for The Velvet Note
REFRESH-INTERVAL;VALUE=DURATION:PT1H
X-Robots-Tag:noindex
X-PUBLISHED-TTL:PT1H
BEGIN:VTIMEZONE
TZID:America/New_York
BEGIN:DAYLIGHT
TZOFFSETFROM:-0500
TZOFFSETTO:-0400
TZNAME:EDT
DTSTART:20220313T070000
END:DAYLIGHT
BEGIN:STANDARD
TZOFFSETFROM:-0400
TZOFFSETTO:-0500
TZNAME:EST
DTSTART:20221106T060000
END:STANDARD
BEGIN:DAYLIGHT
TZOFFSETFROM:-0500
TZOFFSETTO:-0400
TZNAME:EDT
DTSTART:20230312T070000
END:DAYLIGHT
BEGIN:STANDARD
TZOFFSETFROM:-0400
TZOFFSETTO:-0500
TZNAME:EST
DTSTART:20231105T060000
END:STANDARD
BEGIN:DAYLIGHT
TZOFFSETFROM:-0500
TZOFFSETTO:-0400
TZNAME:EDT
DTSTART:20240310T070000
END:DAYLIGHT
BEGIN:STANDARD
TZOFFSETFROM:-0400
TZOFFSETTO:-0500
TZNAME:EST
DTSTART:20241103T060000
END:STANDARD
END:VTIMEZONE
BEGIN:VEVENT
DTSTART;TZID=America/New_York:20230224T193000
DTEND;TZID=America/New_York:20230224T213000
DTSTAMP:20260423T211100
CREATED:20230216T021623Z
LAST-MODIFIED:20230216T021846Z
UID:28656-1677267000-1677274200@thevelvetnote.com
SUMMARY:Friday\, February 24th:  Wes Warmdaddy Anderson's Blues & Boogaloos
DESCRIPTION:SHOWTIMES:  7:30pm and 9:30pm.    Wess Warmdaddy Anderson is best known for his historic and legendary work alongside the incomparable Wynton Marsalis and with the Lincoln Center Jazz Orchestra. In 1988\, Warmdaddy became a member of Wynton Marsalis’ Septet with which he toured and recorded for twenty years! Warmdaddy was also a member of the Lincoln Center Jazz Orchestra since it began touring in 1992 until 2006. \n\nThis show will feature Wess Warmdaddy Anderson performing his favorite blues and boogaloos. If you know and like the music of Lou Donaldson\, you’re going to love this concert! If you want a deep\, soulful\, fun\, world-class jazz experience\, this is the show for you.\n\nWess Anderson: alto saxophone\nMark Rapp: trumpet\nKevin Bales: piano\nKevin Smith: bass\nJustin Varnes: drums
URL:https://thevelvetnote.com/event/friday-february-24th-wes-warmdaddy-andersons-blues-boogaloos/
ATTACH;FMTTYPE=image/jpeg:https://thevelvetnote.com/wp-content/uploads/2023/02/Blues-and-Boogaloos.jpeg
END:VEVENT
END:VCALENDAR