BEGIN:VCALENDAR
VERSION:2.0
PRODID:-//The Velvet Note - ECPv6.15.20//NONSGML v1.0//EN
CALSCALE:GREGORIAN
METHOD:PUBLISH
X-WR-CALNAME:The Velvet Note
X-ORIGINAL-URL:https://thevelvetnote.com
X-WR-CALDESC:Events for The Velvet Note
REFRESH-INTERVAL;VALUE=DURATION:PT1H
X-Robots-Tag:noindex
X-PUBLISHED-TTL:PT1H
BEGIN:VTIMEZONE
TZID:America/New_York
BEGIN:DAYLIGHT
TZOFFSETFROM:-0500
TZOFFSETTO:-0400
TZNAME:EDT
DTSTART:20220313T070000
END:DAYLIGHT
BEGIN:STANDARD
TZOFFSETFROM:-0400
TZOFFSETTO:-0500
TZNAME:EST
DTSTART:20221106T060000
END:STANDARD
BEGIN:DAYLIGHT
TZOFFSETFROM:-0500
TZOFFSETTO:-0400
TZNAME:EDT
DTSTART:20230312T070000
END:DAYLIGHT
BEGIN:STANDARD
TZOFFSETFROM:-0400
TZOFFSETTO:-0500
TZNAME:EST
DTSTART:20231105T060000
END:STANDARD
BEGIN:DAYLIGHT
TZOFFSETFROM:-0500
TZOFFSETTO:-0400
TZNAME:EDT
DTSTART:20240310T070000
END:DAYLIGHT
BEGIN:STANDARD
TZOFFSETFROM:-0400
TZOFFSETTO:-0500
TZNAME:EST
DTSTART:20241103T060000
END:STANDARD
END:VTIMEZONE
BEGIN:VEVENT
DTSTART;TZID=America/New_York:20230127T193000
DTEND;TZID=America/New_York:20230127T230000
DTSTAMP:20260423T224752
CREATED:20230102T044025Z
LAST-MODIFIED:20230126T213703Z
UID:28493-1674847800-1674860400@thevelvetnote.com
SUMMARY:Friday\, January 27th:  The Joe Alterman Trio *** SOLD OUT!!  SOLD OUT!!  SOLD OUT!!   SOLD OUT!!  SOLD OUT!!  ***
DESCRIPTION:SHOWTIMES:  7:30PM AND 9:30PM.  Atlanta native Joe Alterman expresses a certain upbeat naivete\, with a broad smile and bright eyes that make you feel welcome. One would not guess that this is a man hailed by greats; Ramsey Lewis describes his music as “happy music with tasty meat on the bones\,” Les McCann states “Joe’s on a ‘blow your mind’ level\,” and Ahmad Jamal calls him “a very special artist.” The 21st century has brought another transition for this thing called jazz; in one moment we see the push and pull between tradition and progression\, and in another we see Pop and Hip-Hop musicians emulating and sampling. In Joe Alterman we find none of this struggle; the music just sounds good. Our conscious faculties are instantly disabled as we tap our feet\, feeling the intent and joy of his playing. An old classic is new when you feel good in the moment. Or\, as legendary journalist Nat Hentoff wrote about Alterman in the Wall Street Journal\, “Alterman’s continually evolving presence on the jazz scene surely makes people smile and\, if the room is right\, dance. There’ll be no need for any last rites of jazz.” \n\n\n\n***   SOLD OUT!!!  SOLD OUT!!    SOLD OUT!!!   SOLD OUT!!!  SOLD OUT!!!  **** 
URL:https://thevelvetnote.com/event/friday-january-27th-the-joe-alterman-trio/
LOCATION:The Velvet Note Main Stage\, 4075 Old Milton Parkway\, Alpharetta\, 30005\, United States
ATTACH;FMTTYPE=image/jpeg:https://thevelvetnote.com/wp-content/uploads/2023/01/Untitled-design-94.jpg
END:VEVENT
END:VCALENDAR