BEGIN:VCALENDAR
VERSION:2.0
PRODID:-//The Velvet Note - ECPv6.15.20//NONSGML v1.0//EN
CALSCALE:GREGORIAN
METHOD:PUBLISH
X-WR-CALNAME:The Velvet Note
X-ORIGINAL-URL:https://thevelvetnote.com
X-WR-CALDESC:Events for The Velvet Note
REFRESH-INTERVAL;VALUE=DURATION:PT1H
X-Robots-Tag:noindex
X-PUBLISHED-TTL:PT1H
BEGIN:VTIMEZONE
TZID:America/New_York
BEGIN:DAYLIGHT
TZOFFSETFROM:-0500
TZOFFSETTO:-0400
TZNAME:EDT
DTSTART:20220313T070000
END:DAYLIGHT
BEGIN:STANDARD
TZOFFSETFROM:-0400
TZOFFSETTO:-0500
TZNAME:EST
DTSTART:20221106T060000
END:STANDARD
BEGIN:DAYLIGHT
TZOFFSETFROM:-0500
TZOFFSETTO:-0400
TZNAME:EDT
DTSTART:20230312T070000
END:DAYLIGHT
BEGIN:STANDARD
TZOFFSETFROM:-0400
TZOFFSETTO:-0500
TZNAME:EST
DTSTART:20231105T060000
END:STANDARD
BEGIN:DAYLIGHT
TZOFFSETFROM:-0500
TZOFFSETTO:-0400
TZNAME:EDT
DTSTART:20240310T070000
END:DAYLIGHT
BEGIN:STANDARD
TZOFFSETFROM:-0400
TZOFFSETTO:-0500
TZNAME:EST
DTSTART:20241103T060000
END:STANDARD
END:VTIMEZONE
BEGIN:VEVENT
DTSTART;TZID=America/New_York:20230108T193000
DTEND;TZID=America/New_York:20230108T230000
DTSTAMP:20260423T224733
CREATED:20221231T163236Z
LAST-MODIFIED:20230101T234445Z
UID:28469-1673206200-1673218800@thevelvetnote.com
SUMMARY:Sunday\, January 8th:  R&B Singer Robbie Danzie     ****   SOLD OUT!!   SOLD OUT!!  SOLD OUT!!  ****
DESCRIPTION:SHOWTIMES:  7:30PM AND 9:30PM.   \n\n\n\nRobbie Danzie is an African-American\, SAG-AFTRA\, international singer\, actress\, songwriter and television/film content creator who’s entertainment career spans some decades. Collectively\, she’s recorded more than a dozen projects on several labels as\, the lead singer of Krystol (CBS/Epic girl group)\, Genai (vocal-guitar duo)\, featured vocalist for Masters of Funk\, and\, solo projects as herself. She’s worked with such producers as Michael Narada Walden\, Leon Silvers\, Randy “Idol” Jackson\, and Craig T. Cooper\, and collaborated as a writer and/or vocalist on recordings with Rebbie Jackson\, Surface and Michael Henderson. She’s performed as a featured artist with Incognito and Roy Ayers\, and has toured with and sung in Japanese and Mandarin for such artists as Ai\, Anri\, Coco Lee and Mika Nakashima. Robbie’s voice can also be heard on Beatmania video games\, and Pokemon songs\, including The Big O (Japanese television series) ending theme song\, “And Forever”.  \n\n\n\nRobbie Danzie\, her band\, and their guests are delighted to perform at The Velvet Note. \n\n\n\n***  SOLD OUT!!   SOLD OUT!!   SOLD OUT!!   SOLD OUT!!   SOLD OUT!!  SOLD OUT!!  ***
URL:https://thevelvetnote.com/event/sunday-january-8th-rb-singer-robbie-danzie-sold-out-sold-out-sold-out/
LOCATION:The Velvet Note Main Stage\, 4075 Old Milton Parkway\, Alpharetta\, 30005\, United States
ATTACH;FMTTYPE=image/jpeg:https://thevelvetnote.com/wp-content/uploads/2022/12/Untitled-design-93.jpg
END:VEVENT
END:VCALENDAR