BEGIN:VCALENDAR
VERSION:2.0
PRODID:-//The Velvet Note - ECPv6.15.20//NONSGML v1.0//EN
CALSCALE:GREGORIAN
METHOD:PUBLISH
X-ORIGINAL-URL:https://thevelvetnote.com
X-WR-CALDESC:Events for The Velvet Note
REFRESH-INTERVAL;VALUE=DURATION:PT1H
X-Robots-Tag:noindex
X-PUBLISHED-TTL:PT1H
BEGIN:VTIMEZONE
TZID:America/New_York
BEGIN:DAYLIGHT
TZOFFSETFROM:-0500
TZOFFSETTO:-0400
TZNAME:EDT
DTSTART:20220313T070000
END:DAYLIGHT
BEGIN:STANDARD
TZOFFSETFROM:-0400
TZOFFSETTO:-0500
TZNAME:EST
DTSTART:20221106T060000
END:STANDARD
BEGIN:DAYLIGHT
TZOFFSETFROM:-0500
TZOFFSETTO:-0400
TZNAME:EDT
DTSTART:20230312T070000
END:DAYLIGHT
BEGIN:STANDARD
TZOFFSETFROM:-0400
TZOFFSETTO:-0500
TZNAME:EST
DTSTART:20231105T060000
END:STANDARD
BEGIN:DAYLIGHT
TZOFFSETFROM:-0500
TZOFFSETTO:-0400
TZNAME:EDT
DTSTART:20240310T070000
END:DAYLIGHT
BEGIN:STANDARD
TZOFFSETFROM:-0400
TZOFFSETTO:-0500
TZNAME:EST
DTSTART:20241103T060000
END:STANDARD
END:VTIMEZONE
BEGIN:VEVENT
DTSTART;TZID=America/New_York:20230106T193000
DTEND;TZID=America/New_York:20230106T230000
DTSTAMP:20260423T224826
CREATED:20230102T181724Z
LAST-MODIFIED:20230102T181725Z
UID:28516-1673033400-1673046000@thevelvetnote.com
SUMMARY:Friday\, January 6th:  Award-winning Jazz and R&B Singer/Actor Joyce Licorish
DESCRIPTION:SHOWTIMES: 7:30PM AND 9:30PM . \n\n\n\nJoyce Licorish is a creative visionary with a unique ability for storytelling through writing\, speaking\, film and music.  She is a public speaker\, voice actress\, and vocalist known internationally and nationally for performing Jazz\, R&B\, Opera and Soul\, she has been opener for Chaka\, Babyface\, Isleys\, Boyz II Men and more \, she is the Winner of Cobb idol 2021 and the voice of Subway.  \n\n\n\nOh\, and it’s her birthday\, too! Come out and meet Joyce Licorish!
URL:https://thevelvetnote.com/event/friday-january-6th-award-winning-jazz-and-rb-singer-actor-joyce-licorish/
LOCATION:The Velvet Note Main Stage\, 4075 Old Milton Parkway\, Alpharetta\, 30005\, United States
ATTACH;FMTTYPE=image/jpeg:https://thevelvetnote.com/wp-content/uploads/2022/12/IMG_9878.jpg
END:VEVENT
END:VCALENDAR