BEGIN:VCALENDAR
VERSION:2.0
PRODID:-//The Velvet Note - ECPv6.15.20//NONSGML v1.0//EN
CALSCALE:GREGORIAN
METHOD:PUBLISH
X-ORIGINAL-URL:https://thevelvetnote.com
X-WR-CALDESC:Events for The Velvet Note
REFRESH-INTERVAL;VALUE=DURATION:PT1H
X-Robots-Tag:noindex
X-PUBLISHED-TTL:PT1H
BEGIN:VTIMEZONE
TZID:America/New_York
BEGIN:DAYLIGHT
TZOFFSETFROM:-0500
TZOFFSETTO:-0400
TZNAME:EDT
DTSTART:20210314T070000
END:DAYLIGHT
BEGIN:STANDARD
TZOFFSETFROM:-0400
TZOFFSETTO:-0500
TZNAME:EST
DTSTART:20211107T060000
END:STANDARD
BEGIN:DAYLIGHT
TZOFFSETFROM:-0500
TZOFFSETTO:-0400
TZNAME:EDT
DTSTART:20220313T070000
END:DAYLIGHT
BEGIN:STANDARD
TZOFFSETFROM:-0400
TZOFFSETTO:-0500
TZNAME:EST
DTSTART:20221106T060000
END:STANDARD
BEGIN:DAYLIGHT
TZOFFSETFROM:-0500
TZOFFSETTO:-0400
TZNAME:EDT
DTSTART:20230312T070000
END:DAYLIGHT
BEGIN:STANDARD
TZOFFSETFROM:-0400
TZOFFSETTO:-0500
TZNAME:EST
DTSTART:20231105T060000
END:STANDARD
BEGIN:DAYLIGHT
TZOFFSETFROM:-0500
TZOFFSETTO:-0400
TZNAME:EDT
DTSTART:20240310T070000
END:DAYLIGHT
BEGIN:STANDARD
TZOFFSETFROM:-0400
TZOFFSETTO:-0500
TZNAME:EST
DTSTART:20241103T060000
END:STANDARD
END:VTIMEZONE
BEGIN:VEVENT
DTSTART;TZID=America/New_York:20221231T193000
DTEND;TZID=America/New_York:20230101T010000
DTSTAMP:20260423T224839
CREATED:20221220T155621Z
LAST-MODIFIED:20221231T040807Z
UID:28453-1672515000-1672534800@thevelvetnote.com
SUMMARY:Saturday\, December 31st:  New Years Eve Gala Featuring Master Percussionist Bradie Speller & Friends ***  SOLD OUT!!  SOLD OUT!!   SOLD OUT!!  ****
DESCRIPTION:7:30pm – 1:00am. THIS is the place to be for an comfortable\, upscale\, yet enchanting evening of popular jazz and R&B\, accompanied by delicious food\, festive spirits and great conversation. Right in your own backyard–no need to comb the chilly streets of downtown to get your party on! \n\n\n\nYour ticket INCLUDES: \n\n\n\n– Concert tickets to enjoy the all-night performance of acclaimed Master Percussionist Bradie Speller\, with music for listening\, grooving and dancing. \n\n\n\n\n\n\n\n– Comfortable seating in an intimate atmosphere– A champagne toast at midnight \n\n\n\n– Non-alcoholic beverages \n\n\n\n– Party favors \n\n\n\n \n\n\n\nA la CARTE (not included): \n\n\n\n-Appetizers\, entrees and desserts\, served to you at your table all night long \n\n\n\n-Bar beverages (beer\, wine and spirits) \n\n\n\n** SOLDOUT!!  SOLDOUT!!  SOLDOUT!!  SOLDOUT!!  ****
URL:https://thevelvetnote.com/event/saturday-december-31st-new-years-eve-gala-featuring-master-percussionist-bradie-speller-friends/
LOCATION:The Velvet Note Main Stage\, 4075 Old Milton Parkway\, Alpharetta\, 30005\, United States
ATTACH;FMTTYPE=image/jpeg:https://thevelvetnote.com/wp-content/uploads/2013/10/New_Years_Toast.jpg
END:VEVENT
END:VCALENDAR