BEGIN:VCALENDAR
VERSION:2.0
PRODID:-//The Velvet Note - ECPv6.15.20//NONSGML v1.0//EN
CALSCALE:GREGORIAN
METHOD:PUBLISH
X-WR-CALNAME:The Velvet Note
X-ORIGINAL-URL:https://thevelvetnote.com
X-WR-CALDESC:Events for The Velvet Note
REFRESH-INTERVAL;VALUE=DURATION:PT1H
X-Robots-Tag:noindex
X-PUBLISHED-TTL:PT1H
BEGIN:VTIMEZONE
TZID:America/New_York
BEGIN:DAYLIGHT
TZOFFSETFROM:-0500
TZOFFSETTO:-0400
TZNAME:EDT
DTSTART:20210314T070000
END:DAYLIGHT
BEGIN:STANDARD
TZOFFSETFROM:-0400
TZOFFSETTO:-0500
TZNAME:EST
DTSTART:20211107T060000
END:STANDARD
BEGIN:DAYLIGHT
TZOFFSETFROM:-0500
TZOFFSETTO:-0400
TZNAME:EDT
DTSTART:20220313T070000
END:DAYLIGHT
BEGIN:STANDARD
TZOFFSETFROM:-0400
TZOFFSETTO:-0500
TZNAME:EST
DTSTART:20221106T060000
END:STANDARD
BEGIN:DAYLIGHT
TZOFFSETFROM:-0500
TZOFFSETTO:-0400
TZNAME:EDT
DTSTART:20230312T070000
END:DAYLIGHT
BEGIN:STANDARD
TZOFFSETFROM:-0400
TZOFFSETTO:-0500
TZNAME:EST
DTSTART:20231105T060000
END:STANDARD
END:VTIMEZONE
BEGIN:VEVENT
DTSTART;TZID=America/New_York:20221211T190000
DTEND;TZID=America/New_York:20221211T223000
DTSTAMP:20260424T001711
CREATED:20221203T182909Z
LAST-MODIFIED:20221203T184432Z
UID:28400-1670785200-1670797800@thevelvetnote.com
SUMMARY:Sunday\, December 11th:  The Andy Nevala Quartet
DESCRIPTION:SHOWTIMES:  7:00pm and 9:00pm.  As Director of Jazz Studies at Jacksonville State University\, Dr. Andy Nevala currently directs the Downbeat Award Winning Jazz Ensemble I (2015)\, Jazz Ensemble III\, Jazz Ensemble IV\, the Latin Ensemble\, oversees the Jazz Combo program\, produces the annual Jazz Festival (in it’s 11th year)\, and teaches Jazz piano lessons. As Director of Jazz Studies\, he has overseen the JSU Jazz program more than double in size during his time at JSU\, with performances in the community\, at regional and international festivals\, and Middle and High Schools in the Southeast region. \n\n\n\nAndy has been recognized by Downbeat magazine on 10 different occasions\, winning individual Downbeat Music Awards for composition (2002)\, arranging (2003)\, and performing/directing (2000\, 2001\, 2002\, 2015).  \n\n\n\n \n\n\n\nAndy has recorded on over 20 CDs released in the US\, Japan\, and South America\, most recently New West Records “Big Band of Brothers”\, which debuted at No. 2 on the Billboard Jazz Charts\, and “Three Times Two”\, released on the Girod record label out of New Orleans.
URL:https://thevelvetnote.com/event/sunday-december-11th-the-andy-nevala-quartet/
LOCATION:The Velvet Note Main Stage\, 4075 Old Milton Parkway\, Alpharetta\, 30005\, United States
ATTACH;FMTTYPE=image/jpeg:https://thevelvetnote.com/wp-content/uploads/2022/12/9EADCC3D-D0AD-4B2E-9397-58507D4005CC.jpeg
END:VEVENT
END:VCALENDAR