BEGIN:VCALENDAR
VERSION:2.0
PRODID:-//The Velvet Note - ECPv6.15.20//NONSGML v1.0//EN
CALSCALE:GREGORIAN
METHOD:PUBLISH
X-ORIGINAL-URL:https://thevelvetnote.com
X-WR-CALDESC:Events for The Velvet Note
REFRESH-INTERVAL;VALUE=DURATION:PT1H
X-Robots-Tag:noindex
X-PUBLISHED-TTL:PT1H
BEGIN:VTIMEZONE
TZID:America/New_York
BEGIN:DAYLIGHT
TZOFFSETFROM:-0500
TZOFFSETTO:-0400
TZNAME:EDT
DTSTART:20210314T070000
END:DAYLIGHT
BEGIN:STANDARD
TZOFFSETFROM:-0400
TZOFFSETTO:-0500
TZNAME:EST
DTSTART:20211107T060000
END:STANDARD
BEGIN:DAYLIGHT
TZOFFSETFROM:-0500
TZOFFSETTO:-0400
TZNAME:EDT
DTSTART:20220313T070000
END:DAYLIGHT
BEGIN:STANDARD
TZOFFSETFROM:-0400
TZOFFSETTO:-0500
TZNAME:EST
DTSTART:20221106T060000
END:STANDARD
BEGIN:DAYLIGHT
TZOFFSETFROM:-0500
TZOFFSETTO:-0400
TZNAME:EDT
DTSTART:20230312T070000
END:DAYLIGHT
BEGIN:STANDARD
TZOFFSETFROM:-0400
TZOFFSETTO:-0500
TZNAME:EST
DTSTART:20231105T060000
END:STANDARD
END:VTIMEZONE
BEGIN:VEVENT
DTSTART;TZID=America/New_York:20221202T193000
DTEND;TZID=America/New_York:20221202T230000
DTSTAMP:20260424T001839
CREATED:20221120T204109Z
LAST-MODIFIED:20221120T204237Z
UID:28378-1670009400-1670022000@thevelvetnote.com
SUMMARY:Friday\, December 2nd:  Tony Hightower's Christmas
DESCRIPTION:Singer/Songwriter Tony Hightower is taking up the mantle to be a bridge that ushers R&B audiences into Jazz…Real Jazz. With years of experience as a musical performer and actor with familiar roots that place him firmly within the music’s firmament\, Atlanta-native Hightower is still just getting started on this benevolent turn in his journey. And he is bringing a lot of young people with him. \n\n\n\n​His sophomore project\, LEGACY\, finds Hightower exploring Jazz vocal stylings from a dazzling prism of angles. The 10-song album moves confidently and assuredly from original compositions such as the soulful scat-laced “All to the Good\,” the seductive Brazilian bossa nova of “Rendezvous” and the tender carnal Jarreau-esque love beg “I Need You” to swingin’ covers of Earth\, Wind & Fire’s classic Skip Scarborough-penned “Can’t Hide Love\,” a mean shuffle boogie groove through Al Green’s “Love and Happiness” and a smoldering upright bass accompanied tiptoe through the 1929 Andy Razaf standard “Gee\, Baby\, Ain’t I Good To You” made further famous in 1944 by one of Hightower’s greatest and earliest Jazz vocal heroes\, Nat “King” Cole. That one’ll make the women wiggle.
URL:https://thevelvetnote.com/event/friday-december-2nd-tony-hightowers-christmas/
ATTACH;FMTTYPE=image/jpeg:https://thevelvetnote.com/wp-content/uploads/2022/11/FCD9AACF-5CA5-4E35-88E7-575E7D990599.jpeg
END:VEVENT
END:VCALENDAR