BEGIN:VCALENDAR
VERSION:2.0
PRODID:-//The Velvet Note - ECPv6.15.20//NONSGML v1.0//EN
CALSCALE:GREGORIAN
METHOD:PUBLISH
X-ORIGINAL-URL:https://thevelvetnote.com
X-WR-CALDESC:Events for The Velvet Note
REFRESH-INTERVAL;VALUE=DURATION:PT1H
X-Robots-Tag:noindex
X-PUBLISHED-TTL:PT1H
BEGIN:VTIMEZONE
TZID:America/New_York
BEGIN:DAYLIGHT
TZOFFSETFROM:-0500
TZOFFSETTO:-0400
TZNAME:EDT
DTSTART:20210314T070000
END:DAYLIGHT
BEGIN:STANDARD
TZOFFSETFROM:-0400
TZOFFSETTO:-0500
TZNAME:EST
DTSTART:20211107T060000
END:STANDARD
BEGIN:DAYLIGHT
TZOFFSETFROM:-0500
TZOFFSETTO:-0400
TZNAME:EDT
DTSTART:20220313T070000
END:DAYLIGHT
BEGIN:STANDARD
TZOFFSETFROM:-0400
TZOFFSETTO:-0500
TZNAME:EST
DTSTART:20221106T060000
END:STANDARD
BEGIN:DAYLIGHT
TZOFFSETFROM:-0500
TZOFFSETTO:-0400
TZNAME:EDT
DTSTART:20230312T070000
END:DAYLIGHT
BEGIN:STANDARD
TZOFFSETFROM:-0400
TZOFFSETTO:-0500
TZNAME:EST
DTSTART:20231105T060000
END:STANDARD
END:VTIMEZONE
BEGIN:VEVENT
DTSTART;TZID=America/New_York:20221124T200000
DTEND;TZID=America/New_York:20221124T230000
DTSTAMP:20260424T015310
CREATED:20221120T172010Z
LAST-MODIFIED:20221120T172011Z
UID:28370-1669320000-1669330800@thevelvetnote.com
SUMMARY:Thursday\, November 24th:  Open Mic Jam Hosted by Club Owner Tamara Fuller
DESCRIPTION:Yep\, we’re open on Thanksgiving night and you’re welcomed. After the turkey\, the fixings and the football\, we here for an epic jam session. Bring your talent\, bring your family\, bring your instrument\, bring your clapping hands\, and join the fun. Hosted by club owner Tamara Fuller. And entry is only $5.00 per person– our holiday gift to you!
URL:https://thevelvetnote.com/event/thursday-november-24th-open-mic-jam-hosted-by-club-owner-tamara-fuller/
ATTACH;FMTTYPE=image/jpeg:https://thevelvetnote.com/wp-content/uploads/2022/11/255421FC-EF00-4CD8-A707-D118722DF50D.jpeg
END:VEVENT
END:VCALENDAR