BEGIN:VCALENDAR
VERSION:2.0
PRODID:-//The Velvet Note - ECPv6.15.20//NONSGML v1.0//EN
CALSCALE:GREGORIAN
METHOD:PUBLISH
X-ORIGINAL-URL:https://thevelvetnote.com
X-WR-CALDESC:Events for The Velvet Note
REFRESH-INTERVAL;VALUE=DURATION:PT1H
X-Robots-Tag:noindex
X-PUBLISHED-TTL:PT1H
BEGIN:VTIMEZONE
TZID:America/New_York
BEGIN:DAYLIGHT
TZOFFSETFROM:-0500
TZOFFSETTO:-0400
TZNAME:EDT
DTSTART:20210314T070000
END:DAYLIGHT
BEGIN:STANDARD
TZOFFSETFROM:-0400
TZOFFSETTO:-0500
TZNAME:EST
DTSTART:20211107T060000
END:STANDARD
BEGIN:DAYLIGHT
TZOFFSETFROM:-0500
TZOFFSETTO:-0400
TZNAME:EDT
DTSTART:20220313T070000
END:DAYLIGHT
BEGIN:STANDARD
TZOFFSETFROM:-0400
TZOFFSETTO:-0500
TZNAME:EST
DTSTART:20221106T060000
END:STANDARD
BEGIN:DAYLIGHT
TZOFFSETFROM:-0500
TZOFFSETTO:-0400
TZNAME:EDT
DTSTART:20230312T070000
END:DAYLIGHT
BEGIN:STANDARD
TZOFFSETFROM:-0400
TZOFFSETTO:-0500
TZNAME:EST
DTSTART:20231105T060000
END:STANDARD
END:VTIMEZONE
BEGIN:VEVENT
DTSTART;TZID=America/New_York:20221028T193000
DTEND;TZID=America/New_York:20221028T230000
DTSTAMP:20260424T032052
CREATED:20220930T192133Z
LAST-MODIFIED:20220930T192143Z
UID:28265-1666985400-1666998000@thevelvetnote.com
SUMMARY:Friday\, October 28th:  The Jonathan Kreisberg Trio
DESCRIPTION:“He sure plays the HELL out of the guitar!” John Scofield \n\n\n\nSHOWTIMES:  7:30PM AND 9:30PM.    Guitarist Jonathan Kreisberg has been steadily building his name as one of the most compelling composer/performers in Jazz.  Combining timeless melodicism with forward thinking lines and textures\, His style and approach has created a strong following of fans and influenced young musicians all around the world.  He frequently tours worldwide and records with his own groups and played for 12 years with the late Dr. Lonnie Smith\, who said of Kreisberg “He is a passionate musician with great vision\, and he is constantly in fiery pursuit of innovation.”  \n\n\n\nWith Or Bareket (bass) and Karl Henrick Ousback (drums)
URL:https://thevelvetnote.com/event/friday-october-28th-the-jonathan-kreisberg-trio/
LOCATION:The Velvet Note Main Stage\, 4075 Old Milton Parkway\, Alpharetta\, 30005\, United States
ATTACH;FMTTYPE=image/png:https://thevelvetnote.com/wp-content/uploads/2022/09/088637EF-2125-4F89-9F82-349904024F17.png
END:VEVENT
END:VCALENDAR