BEGIN:VCALENDAR
VERSION:2.0
PRODID:-//The Velvet Note - ECPv6.15.20//NONSGML v1.0//EN
CALSCALE:GREGORIAN
METHOD:PUBLISH
X-WR-CALNAME:The Velvet Note
X-ORIGINAL-URL:https://thevelvetnote.com
X-WR-CALDESC:Events for The Velvet Note
REFRESH-INTERVAL;VALUE=DURATION:PT1H
X-Robots-Tag:noindex
X-PUBLISHED-TTL:PT1H
BEGIN:VTIMEZONE
TZID:America/New_York
BEGIN:DAYLIGHT
TZOFFSETFROM:-0500
TZOFFSETTO:-0400
TZNAME:EDT
DTSTART:20210314T070000
END:DAYLIGHT
BEGIN:STANDARD
TZOFFSETFROM:-0400
TZOFFSETTO:-0500
TZNAME:EST
DTSTART:20211107T060000
END:STANDARD
BEGIN:DAYLIGHT
TZOFFSETFROM:-0500
TZOFFSETTO:-0400
TZNAME:EDT
DTSTART:20220313T070000
END:DAYLIGHT
BEGIN:STANDARD
TZOFFSETFROM:-0400
TZOFFSETTO:-0500
TZNAME:EST
DTSTART:20221106T060000
END:STANDARD
BEGIN:DAYLIGHT
TZOFFSETFROM:-0500
TZOFFSETTO:-0400
TZNAME:EDT
DTSTART:20230312T070000
END:DAYLIGHT
BEGIN:STANDARD
TZOFFSETFROM:-0400
TZOFFSETTO:-0500
TZNAME:EST
DTSTART:20231105T060000
END:STANDARD
END:VTIMEZONE
BEGIN:VEVENT
DTSTART;TZID=America/New_York:20221022T193000
DTEND;TZID=America/New_York:20221022T230000
DTSTAMP:20260424T031951
CREATED:20221006T024738Z
LAST-MODIFIED:20221022T204207Z
UID:28290-1666467000-1666479600@thevelvetnote.com
SUMMARY:Saturday\, October 22nd:  Jazz & R&B Singer Cainan Grier    ***   SOLD OUT!!  SOLD OUT!!  SOLD OUT!!   SOLD OUT!!
DESCRIPTION:Cainan Grier is a Jazz and R & B vocalist and pianist with roots grounded in classical\, gospel\, and world music styles. Originally from Miami\, Florida\, Cainan is an alumnus of Berklee College of Music where he studied under some of the greatest musicians of our time and has performed on stages with legendary vocalists Fred Hammond and Donnie McClurkin. Cainan’s performance style and musicality emphasize the storytelling nature of music and create a vibe that is pleasing to the ear and the heart\, mind\, and soul. \n\n\n\nWhen not performing on the stage\, Cainan has worked behind the scenes in over 20 theatrical productions\, helping develop both sound and lighting design\, assisting in directing both the dramatic and musical aspects\, and even composing and programming the score for a stage production of “The Miracle Worker”. In his day-to-day activities\, Cainan combines both his passions for music and education as a private instructor\, vocal director\, and producer to guide other musicians in discovering the fullest potential of their voices and abilities.   \n\n\n\n***  SOLD OUT!!   SOLD OUT!!   SOLD OUT!!   SOLD OUT!!   SOLD OUT!!  ***
URL:https://thevelvetnote.com/event/saturday-october-22nd-jazz-rb-singer-cainan-grier/
LOCATION:The Velvet Note Main Stage\, 4075 Old Milton Parkway\, Alpharetta\, 30005\, United States
ATTACH;FMTTYPE=image/jpeg:https://thevelvetnote.com/wp-content/uploads/2022/10/LeChatNoir.jpg
END:VEVENT
END:VCALENDAR