BEGIN:VCALENDAR
VERSION:2.0
PRODID:-//The Velvet Note - ECPv6.15.20//NONSGML v1.0//EN
CALSCALE:GREGORIAN
METHOD:PUBLISH
X-WR-CALNAME:The Velvet Note
X-ORIGINAL-URL:https://thevelvetnote.com
X-WR-CALDESC:Events for The Velvet Note
REFRESH-INTERVAL;VALUE=DURATION:PT1H
X-Robots-Tag:noindex
X-PUBLISHED-TTL:PT1H
BEGIN:VTIMEZONE
TZID:America/New_York
BEGIN:DAYLIGHT
TZOFFSETFROM:-0500
TZOFFSETTO:-0400
TZNAME:EDT
DTSTART:20210314T070000
END:DAYLIGHT
BEGIN:STANDARD
TZOFFSETFROM:-0400
TZOFFSETTO:-0500
TZNAME:EST
DTSTART:20211107T060000
END:STANDARD
BEGIN:DAYLIGHT
TZOFFSETFROM:-0500
TZOFFSETTO:-0400
TZNAME:EDT
DTSTART:20220313T070000
END:DAYLIGHT
BEGIN:STANDARD
TZOFFSETFROM:-0400
TZOFFSETTO:-0500
TZNAME:EST
DTSTART:20221106T060000
END:STANDARD
BEGIN:DAYLIGHT
TZOFFSETFROM:-0500
TZOFFSETTO:-0400
TZNAME:EDT
DTSTART:20230312T070000
END:DAYLIGHT
BEGIN:STANDARD
TZOFFSETFROM:-0400
TZOFFSETTO:-0500
TZNAME:EST
DTSTART:20231105T060000
END:STANDARD
END:VTIMEZONE
BEGIN:VEVENT
DTSTART;TZID=America/New_York:20221008T193000
DTEND;TZID=America/New_York:20221008T230000
DTSTAMP:20260424T031939
CREATED:20221001T064400Z
LAST-MODIFIED:20221001T064406Z
UID:28274-1665257400-1665270000@thevelvetnote.com
SUMMARY:Saturday\, October 8th:  Legendary Jazz Artist Doug Carn
DESCRIPTION:Doug Carn is an American jazz musician from St. Augustine\, Florida\, formerly married to Jean Carne. His multi-faceted talents as a pianist-organist-lyricist began to emerge onto the contemporary Afri­can-American music scene during his teenage years. He worked with Nat Adderley\, Earth\, Wind & Fire\, Shirley Horn\, Lou Donaldson\, Stanley Turrentine\, and Irene Reid.[2] In 1997 Carn and other jazz organists including Dr. Lonnie Smith (jazz musician)and Reuben Wilson recorded Bongobop with The Essence Allstars that featured both solo performances and a duet with Joey DeFrancesco.
URL:https://thevelvetnote.com/event/saturday-october-8th-legendary-jazz-artist-doug-carn/
LOCATION:The Velvet Note Main Stage\, 4075 Old Milton Parkway\, Alpharetta\, 30005\, United States
ATTACH;FMTTYPE=image/jpeg:https://thevelvetnote.com/wp-content/uploads/2022/10/Untitled-design-85.jpg
END:VEVENT
END:VCALENDAR