BEGIN:VCALENDAR
VERSION:2.0
PRODID:-//The Velvet Note - ECPv6.15.20//NONSGML v1.0//EN
CALSCALE:GREGORIAN
METHOD:PUBLISH
X-ORIGINAL-URL:https://thevelvetnote.com
X-WR-CALDESC:Events for The Velvet Note
REFRESH-INTERVAL;VALUE=DURATION:PT1H
X-Robots-Tag:noindex
X-PUBLISHED-TTL:PT1H
BEGIN:VTIMEZONE
TZID:America/New_York
BEGIN:DAYLIGHT
TZOFFSETFROM:-0500
TZOFFSETTO:-0400
TZNAME:EDT
DTSTART:20210314T070000
END:DAYLIGHT
BEGIN:STANDARD
TZOFFSETFROM:-0400
TZOFFSETTO:-0500
TZNAME:EST
DTSTART:20211107T060000
END:STANDARD
BEGIN:DAYLIGHT
TZOFFSETFROM:-0500
TZOFFSETTO:-0400
TZNAME:EDT
DTSTART:20220313T070000
END:DAYLIGHT
BEGIN:STANDARD
TZOFFSETFROM:-0400
TZOFFSETTO:-0500
TZNAME:EST
DTSTART:20221106T060000
END:STANDARD
BEGIN:DAYLIGHT
TZOFFSETFROM:-0500
TZOFFSETTO:-0400
TZNAME:EDT
DTSTART:20230312T070000
END:DAYLIGHT
BEGIN:STANDARD
TZOFFSETFROM:-0400
TZOFFSETTO:-0500
TZNAME:EST
DTSTART:20231105T060000
END:STANDARD
END:VTIMEZONE
BEGIN:VEVENT
DTSTART;TZID=America/New_York:20220924T193000
DTEND;TZID=America/New_York:20220924T230000
DTSTAMP:20260424T045248
CREATED:20220921T152404Z
LAST-MODIFIED:20220921T221752Z
UID:28240-1664047800-1664060400@thevelvetnote.com
SUMMARY:Saturday\, September 24th:  R&B/Jazz Singer Rosemary Ajoseh
DESCRIPTION:SHOWTIMES:  7:30PM AND 9:30PM.   \n\n\n\nMusic Department .Singer. Songwriter .Musician .Composer \n\n\n\nRosemary Ajoseh is an Independent Artist and songwriter. Her Passion for Music and Film stems from her youth in Theatre\, Drama\, Liturgical Dance\, and Singing. Rosemary is a creative song writer and score contributor to film and production ; she has led Background vocals for music presentations and recordings. Rosemary has co- produced music projects and seeks to collaborate with Production and Film Arrangements. \n\n\n\n“Expression of heart is not only found in words\, it is exude by the passion of Art…allow me to show you a Piece of my heart.”-Rosemary Ajoseh \n\n\n\nCredentials: .EP Album Released 2020 “Letter of Hope” Ranking #69 Top 100 Release on Amazon .Music Loverz Magazine Feature- Top 5 2020 Artist Recognition .International Radio Air Play \n\n\n\n.Music Department: “17B” Short Film Kingdomwood Film Festival Atlanta GA. Singer/Songwriter Score Composer \n\n\n\n.Drama stage Play “In Remembrance of Me” co-singing with Brian McKnight’s Niece.
URL:https://thevelvetnote.com/event/saturday-september-24th-singer-and-guitarist-trevor-exter/
LOCATION:The Velvet Note Main Stage\, 4075 Old Milton Parkway\, Alpharetta\, 30005\, United States
ATTACH;FMTTYPE=image/jpeg:https://thevelvetnote.com/wp-content/uploads/2022/09/Untitled-design-77.jpg
END:VEVENT
END:VCALENDAR