BEGIN:VCALENDAR
VERSION:2.0
PRODID:-//The Velvet Note - ECPv6.15.20//NONSGML v1.0//EN
CALSCALE:GREGORIAN
METHOD:PUBLISH
X-ORIGINAL-URL:https://thevelvetnote.com
X-WR-CALDESC:Events for The Velvet Note
REFRESH-INTERVAL;VALUE=DURATION:PT1H
X-Robots-Tag:noindex
X-PUBLISHED-TTL:PT1H
BEGIN:VTIMEZONE
TZID:America/New_York
BEGIN:DAYLIGHT
TZOFFSETFROM:-0500
TZOFFSETTO:-0400
TZNAME:EDT
DTSTART:20210314T070000
END:DAYLIGHT
BEGIN:STANDARD
TZOFFSETFROM:-0400
TZOFFSETTO:-0500
TZNAME:EST
DTSTART:20211107T060000
END:STANDARD
BEGIN:DAYLIGHT
TZOFFSETFROM:-0500
TZOFFSETTO:-0400
TZNAME:EDT
DTSTART:20220313T070000
END:DAYLIGHT
BEGIN:STANDARD
TZOFFSETFROM:-0400
TZOFFSETTO:-0500
TZNAME:EST
DTSTART:20221106T060000
END:STANDARD
BEGIN:DAYLIGHT
TZOFFSETFROM:-0500
TZOFFSETTO:-0400
TZNAME:EDT
DTSTART:20230312T070000
END:DAYLIGHT
BEGIN:STANDARD
TZOFFSETFROM:-0400
TZOFFSETTO:-0500
TZNAME:EST
DTSTART:20231105T060000
END:STANDARD
END:VTIMEZONE
BEGIN:VEVENT
DTSTART;TZID=America/New_York:20220902T193000
DTEND;TZID=America/New_York:20220902T230000
DTSTAMP:20260424T045204
CREATED:20200825T182302Z
LAST-MODIFIED:20220825T125305Z
UID:25457-1662147000-1662159600@thevelvetnote.com
SUMMARY:Friday\, September 2nd and Saturday\, September 3rd:  Earth Wind and Fire Tribute   *** SOLD OUT!!  SOLD OUT!!   SOLD OUT!!  ***
DESCRIPTION:SHOWTIMES:  FRIDAY AND SATURDAY\, 7:30PM AND 9:30PM.  Do you remember….the twenty-first night of September?  By POPULAR DEMAND\, we are bringing the Ray Howard Band back in 2022 for their tribute to the beloved EW&F.  This is not just a concert or a show–it’s a PARTY!  Here’s your chance to get your jazz-funk-disco-soul groove on\, accompanied by some of the hottest musicians around.  Bandleader Ray Howard pulls out all of the stops in this weekend-long- tribute to EARTH\, WIND & FIRE–one of the most critically acclaimed bands of the twentieth century.   \n\n\n\n***  SOLD OUT!!   SOLD OUT!!   SOLD OUT!!   SOLD OUT!! SOLD OUT!!   SOLD OUT!!   ***
URL:https://thevelvetnote.com/event/friday-september-4th-earth-wind-and-fire-tribute/
LOCATION:The Velvet Note Main Stage\, 4075 Old Milton Parkway\, Alpharetta\, 30005\, United States
ATTACH;FMTTYPE=image/jpeg:https://thevelvetnote.com/wp-content/uploads/2014/07/RayHowardBand2.jpg
END:VEVENT
END:VCALENDAR