BEGIN:VCALENDAR
VERSION:2.0
PRODID:-//The Velvet Note - ECPv6.15.20//NONSGML v1.0//EN
CALSCALE:GREGORIAN
METHOD:PUBLISH
X-WR-CALNAME:The Velvet Note
X-ORIGINAL-URL:https://thevelvetnote.com
X-WR-CALDESC:Events for The Velvet Note
REFRESH-INTERVAL;VALUE=DURATION:PT1H
X-Robots-Tag:noindex
X-PUBLISHED-TTL:PT1H
BEGIN:VTIMEZONE
TZID:America/New_York
BEGIN:DAYLIGHT
TZOFFSETFROM:-0500
TZOFFSETTO:-0400
TZNAME:EDT
DTSTART:20210314T070000
END:DAYLIGHT
BEGIN:STANDARD
TZOFFSETFROM:-0400
TZOFFSETTO:-0500
TZNAME:EST
DTSTART:20211107T060000
END:STANDARD
BEGIN:DAYLIGHT
TZOFFSETFROM:-0500
TZOFFSETTO:-0400
TZNAME:EDT
DTSTART:20220313T070000
END:DAYLIGHT
BEGIN:STANDARD
TZOFFSETFROM:-0400
TZOFFSETTO:-0500
TZNAME:EST
DTSTART:20221106T060000
END:STANDARD
BEGIN:DAYLIGHT
TZOFFSETFROM:-0500
TZOFFSETTO:-0400
TZNAME:EDT
DTSTART:20230312T070000
END:DAYLIGHT
BEGIN:STANDARD
TZOFFSETFROM:-0400
TZOFFSETTO:-0500
TZNAME:EST
DTSTART:20231105T060000
END:STANDARD
END:VTIMEZONE
BEGIN:VEVENT
DTSTART;TZID=America/New_York:20220828T190000
DTEND;TZID=America/New_York:20220828T210000
DTSTAMP:20260424T062357
CREATED:20220115T180814Z
LAST-MODIFIED:20220825T002406Z
UID:27685-1661713200-1661720400@thevelvetnote.com
SUMMARY:Sunday\, August 28th:  SPARKS! (Semi-Private Event)*** SOLD OUT!!   SOLD OUT!! SOLD OUT!!   SOLD OUT!!  ***
DESCRIPTION:Sparks’s warm\, classic rock rhythm and blues sound stems from the modern renaissance man\, business coach\, lawyer\, podcaster\, and musician\, Jonathan Sparks. This spring\, he continues to bring his Nirvana – Bowie – Soundgarden sound to prestigious venues near Atlanta. His new single “I’ve Got Your Number” was mixed by acclaimed engineer Peter Barker (Bruce Springsteen\, Herbie Hancock\, Fiona Apple) and will be available on all streaming platforms on 1/21/22. \n\n\n\nSparks has shared the stage with Tom Petty and the original Woodstock Santana band\, among others. \n\n\n\n  ***   SOLD OUT!!   SOLD OUT!!   SOLD OUT!!   SOLD OUT!!!  ***
URL:https://thevelvetnote.com/event/sunday-january-23rd-sparks-semi-private-event/
LOCATION:The Velvet Note Main Stage\, 4075 Old Milton Parkway\, Alpharetta\, 30005\, United States
ATTACH;FMTTYPE=image/jpeg:https://thevelvetnote.com/wp-content/uploads/2022/01/05E17AEA-54A1-4D90-BBC2-D4E82464B1DC-scaled.jpeg
END:VEVENT
END:VCALENDAR