BEGIN:VCALENDAR
VERSION:2.0
PRODID:-//The Velvet Note - ECPv6.15.20//NONSGML v1.0//EN
CALSCALE:GREGORIAN
METHOD:PUBLISH
X-ORIGINAL-URL:https://thevelvetnote.com
X-WR-CALDESC:Events for The Velvet Note
REFRESH-INTERVAL;VALUE=DURATION:PT1H
X-Robots-Tag:noindex
X-PUBLISHED-TTL:PT1H
BEGIN:VTIMEZONE
TZID:America/New_York
BEGIN:DAYLIGHT
TZOFFSETFROM:-0500
TZOFFSETTO:-0400
TZNAME:EDT
DTSTART:20210314T070000
END:DAYLIGHT
BEGIN:STANDARD
TZOFFSETFROM:-0400
TZOFFSETTO:-0500
TZNAME:EST
DTSTART:20211107T060000
END:STANDARD
BEGIN:DAYLIGHT
TZOFFSETFROM:-0500
TZOFFSETTO:-0400
TZNAME:EDT
DTSTART:20220313T070000
END:DAYLIGHT
BEGIN:STANDARD
TZOFFSETFROM:-0400
TZOFFSETTO:-0500
TZNAME:EST
DTSTART:20221106T060000
END:STANDARD
BEGIN:DAYLIGHT
TZOFFSETFROM:-0500
TZOFFSETTO:-0400
TZNAME:EDT
DTSTART:20230312T070000
END:DAYLIGHT
BEGIN:STANDARD
TZOFFSETFROM:-0400
TZOFFSETTO:-0500
TZNAME:EST
DTSTART:20231105T060000
END:STANDARD
END:VTIMEZONE
BEGIN:VEVENT
DTSTART;TZID=America/New_York:20220813T193000
DTEND;TZID=America/New_York:20220813T230000
DTSTAMP:20260424T062431
CREATED:20220719T113627Z
LAST-MODIFIED:20220812T162332Z
UID:28082-1660419000-1660431600@thevelvetnote.com
SUMMARY:Saturday\, August 13th:  LAVAHI   *** SOLD OUT!!   SOLD OUT!!   SOLD OUT!!   ***
DESCRIPTION:SHOWTIMES:  7:30PM AND 9:30PM.   Lavahi is the vocal winner of The Velvet Note’s Open Mic Competition\, and we are excited to introduce her to you through her very first full-length performance on our stage!   \n\n\n\nLAVAHI is building a platform to nourish the heart and mind\, empathize our human experiences\, and vibe together. As a daughter of jazz\, the culture heavily informs her ideology and influences her sound. Acrobatic scatting\, compelling chords\, and the art of improvisation evoke that classic traditional aesthetic and set her contemporary sound apart from the norm of mainstream neo-soul\, hip hop\, and R&B.  \n\n\n\nLAVAHI has been actively developing her artistry via performing\, songwriting\, and recording since 2010. In the process\, she has worked with an eclectic range of artists and produced noteworthy collaborative projects. Her list of credits includes “Hold On\,” the widely successful second single release from jazz vocalist Lori Williams’s 2018 studio album Out of the Box\, and “Rest Assured\,” a feature on Hospital Records’ drum and bass tribute compilation ‘Med School: Graduation.’ “Hold On” (featuring the legendary Tom Browne of “Funkin’ for Jamaica (N.Y.)”)\, topped the UK Soul charts for weeks since its release\, while “Rest Assured” made waves on the UK Electronic charts. \n\n\n\nLAVAHI also produces\, plays flute and piccolo\, and arranges. She has added her unique sound to national and international projects in genres varying from rap to film scores to alternative. LAVAHI loves the studio and feels most natural when recording independently; but her second home is the collaborative live performance of the stage. She has been featured at venues such as Blues Alley\, Bethesda Blues and Jazz\, Kat’s Cafe\, Porter-Sanford III\, St. James Live!\, City Winery\, and more\, and she has even stepped into the world of acting via musicals and stage plays. \n\n\n\nWhether through performance in music\, in writing\, or in academic spaces\, LAVAHI allows her own vulnerability to cultivate the vibe and create a safe space\, internally and externally\, for those sharing the experience with her. \n\n\n\n***   SOLD OUT!!!   SOLD OUT!!   SOLD OUT!!   *****
URL:https://thevelvetnote.com/event/saturday-august-13th-lavahi/
LOCATION:The Velvet Note Main Stage\, 4075 Old Milton Parkway\, Alpharetta\, 30005\, United States
ATTACH;FMTTYPE=image/jpeg:https://thevelvetnote.com/wp-content/uploads/2022/07/5AD27B6F-3A16-4819-926C-3174FAD5A381.jpeg
END:VEVENT
END:VCALENDAR