BEGIN:VCALENDAR
VERSION:2.0
PRODID:-//The Velvet Note - ECPv6.15.20//NONSGML v1.0//EN
CALSCALE:GREGORIAN
METHOD:PUBLISH
X-WR-CALNAME:The Velvet Note
X-ORIGINAL-URL:https://thevelvetnote.com
X-WR-CALDESC:Events for The Velvet Note
REFRESH-INTERVAL;VALUE=DURATION:PT1H
X-Robots-Tag:noindex
X-PUBLISHED-TTL:PT1H
BEGIN:VTIMEZONE
TZID:America/New_York
BEGIN:DAYLIGHT
TZOFFSETFROM:-0500
TZOFFSETTO:-0400
TZNAME:EDT
DTSTART:20210314T070000
END:DAYLIGHT
BEGIN:STANDARD
TZOFFSETFROM:-0400
TZOFFSETTO:-0500
TZNAME:EST
DTSTART:20211107T060000
END:STANDARD
BEGIN:DAYLIGHT
TZOFFSETFROM:-0500
TZOFFSETTO:-0400
TZNAME:EDT
DTSTART:20220313T070000
END:DAYLIGHT
BEGIN:STANDARD
TZOFFSETFROM:-0400
TZOFFSETTO:-0500
TZNAME:EST
DTSTART:20221106T060000
END:STANDARD
BEGIN:DAYLIGHT
TZOFFSETFROM:-0500
TZOFFSETTO:-0400
TZNAME:EDT
DTSTART:20230312T070000
END:DAYLIGHT
BEGIN:STANDARD
TZOFFSETFROM:-0400
TZOFFSETTO:-0500
TZNAME:EST
DTSTART:20231105T060000
END:STANDARD
END:VTIMEZONE
BEGIN:VEVENT
DTSTART;TZID=America/New_York:20220626T190000
DTEND;TZID=America/New_York:20220626T230000
DTSTAMP:20260424T092244
CREATED:20220524T232135Z
LAST-MODIFIED:20220524T232401Z
UID:27953-1656270000-1656284400@thevelvetnote.com
SUMMARY:Sunday\, June 26th:  GRAMMY-Winner Saunders Sermons with Special Guest Luna Lotus Love
DESCRIPTION:Born and raised in Miami Florida Saunders Sermons II is an American singer\, trombonist\, and songwriter. Sermons has toured with Maxwell\, Jay Z\, Diddy and Jazz R&B saxophonist Mike Phillips just to name a few. He received his Grammy Status for his horn arrangement work with R&B/Soul singer Maxwell and Blues Supergroup The Tedeschi Trucks Band. Since then he has grown to become an established independent artist with an admirable music career.
URL:https://thevelvetnote.com/event/sunday-june-26th-grammy-winner-saunders-sermons-with-special-guest-luna-lotus-love/
LOCATION:The Velvet Note Main Stage\, 4075 Old Milton Parkway\, Alpharetta\, 30005\, United States
ATTACH;FMTTYPE=image/jpeg:https://thevelvetnote.com/wp-content/uploads/2022/05/GRAMMY-Winning-TrombonistSinger.jpg
END:VEVENT
END:VCALENDAR