BEGIN:VCALENDAR
VERSION:2.0
PRODID:-//The Velvet Note - ECPv6.15.20//NONSGML v1.0//EN
CALSCALE:GREGORIAN
METHOD:PUBLISH
X-ORIGINAL-URL:https://thevelvetnote.com
X-WR-CALDESC:Events for The Velvet Note
REFRESH-INTERVAL;VALUE=DURATION:PT1H
X-Robots-Tag:noindex
X-PUBLISHED-TTL:PT1H
BEGIN:VTIMEZONE
TZID:America/New_York
BEGIN:DAYLIGHT
TZOFFSETFROM:-0500
TZOFFSETTO:-0400
TZNAME:EDT
DTSTART:20210314T070000
END:DAYLIGHT
BEGIN:STANDARD
TZOFFSETFROM:-0400
TZOFFSETTO:-0500
TZNAME:EST
DTSTART:20211107T060000
END:STANDARD
BEGIN:DAYLIGHT
TZOFFSETFROM:-0500
TZOFFSETTO:-0400
TZNAME:EDT
DTSTART:20220313T070000
END:DAYLIGHT
BEGIN:STANDARD
TZOFFSETFROM:-0400
TZOFFSETTO:-0500
TZNAME:EST
DTSTART:20221106T060000
END:STANDARD
BEGIN:DAYLIGHT
TZOFFSETFROM:-0500
TZOFFSETTO:-0400
TZNAME:EDT
DTSTART:20230312T070000
END:DAYLIGHT
BEGIN:STANDARD
TZOFFSETFROM:-0400
TZOFFSETTO:-0500
TZNAME:EST
DTSTART:20231105T060000
END:STANDARD
END:VTIMEZONE
BEGIN:VEVENT
DTSTART;TZID=America/New_York:20220618T193000
DTEND;TZID=America/New_York:20220619T230000
DTSTAMP:20260424T092304
CREATED:20220517T142140Z
LAST-MODIFIED:20220517T142512Z
UID:27945-1655580600-1655679600@thevelvetnote.com
SUMMARY:June 18th & 19th:  Chieli Minucci & Special EFX
DESCRIPTION:SATURDAY SHOWTIMES:  7:30PM AND 9:30PM \n\n\n\nSUNDAY SHOWTIMES:  7:00PM AND 9:00PM \n\n\n\nThis is the premier Father’s Day Concert of the Season!  Guitarist\, composer\, producer\, and arranger Chieli Minucci is longtime leader of the Grammy-nominated jazz-fusion group SPECIAL EFX featuring Chieli Minucci\, a major force on the jazz and world music scene for over 35 years. Chieli has just recently released his 35thanniversary CD\, “All Stars” (Trippin N Rhythm Records).  Chieli & Special EFX’s previous release saw title track\, “Deep as the Night”\, won Billboard Magazine’s 2018 top honors\, best-song-of-the-year. \n\n\n\nBesides writing and performing his own music\, Chieli shares his guitar brilliance throughout the entertainment world. He has recorded and performed with many top artists\, such as Celine Dion\, Lou Reed\, Lionel Richie\, Jennifer Lopez\, Jewel\, Mark Anthony\, Michael Bolton\, Rupert Holmes\, Eartha Kitt\, Eddie Fisher\, Anastasia\, as well as jazz artists Kirk Whalum\, Jeff Lorber\, Norman Brown\, Bernie Williams\, Marion Meadows\, Lao Tizer\, Mindi Abair\, Rick  \n\n\n\nBraun\, Gerald Veasley\, Omar Hakim\, and many others.  Although renowned in the jazz and pop world\, Chieli is also a gifted television and film composer. He has won 3 Emmy Awards and been nominated 10 times for his eclectic compositional work. His music can also be heard on the soundtracks of the films Bowfinger\, Legally Blonde\, Panic\, and others. Chieli’s original scoring work can be heard in live stage productions of Peter Pan\, Dora the Explorer\, Thomas the Tank Engine\, and others.
URL:https://thevelvetnote.com/event/chieli-minucci-special-efx/
LOCATION:The Velvet Note Main Stage\, 4075 Old Milton Parkway\, Alpharetta\, 30005\, United States
ATTACH;FMTTYPE=image/jpeg:https://thevelvetnote.com/wp-content/uploads/2022/05/FATHERS-DAY-WEEKEND-EVENT.jpg
END:VEVENT
END:VCALENDAR