BEGIN:VCALENDAR
VERSION:2.0
PRODID:-//The Velvet Note - ECPv6.15.20//NONSGML v1.0//EN
CALSCALE:GREGORIAN
METHOD:PUBLISH
X-WR-CALNAME:The Velvet Note
X-ORIGINAL-URL:https://thevelvetnote.com
X-WR-CALDESC:Events for The Velvet Note
REFRESH-INTERVAL;VALUE=DURATION:PT1H
X-Robots-Tag:noindex
X-PUBLISHED-TTL:PT1H
BEGIN:VTIMEZONE
TZID:America/New_York
BEGIN:DAYLIGHT
TZOFFSETFROM:-0500
TZOFFSETTO:-0400
TZNAME:EDT
DTSTART:20210314T070000
END:DAYLIGHT
BEGIN:STANDARD
TZOFFSETFROM:-0400
TZOFFSETTO:-0500
TZNAME:EST
DTSTART:20211107T060000
END:STANDARD
BEGIN:DAYLIGHT
TZOFFSETFROM:-0500
TZOFFSETTO:-0400
TZNAME:EDT
DTSTART:20220313T070000
END:DAYLIGHT
BEGIN:STANDARD
TZOFFSETFROM:-0400
TZOFFSETTO:-0500
TZNAME:EST
DTSTART:20221106T060000
END:STANDARD
BEGIN:DAYLIGHT
TZOFFSETFROM:-0500
TZOFFSETTO:-0400
TZNAME:EDT
DTSTART:20230312T070000
END:DAYLIGHT
BEGIN:STANDARD
TZOFFSETFROM:-0400
TZOFFSETTO:-0500
TZNAME:EST
DTSTART:20231105T060000
END:STANDARD
END:VTIMEZONE
BEGIN:VEVENT
DTSTART;TZID=America/New_York:20220609T200000
DTEND;TZID=America/New_York:20220609T230000
DTSTAMP:20260424T092243
CREATED:20220606T174251Z
LAST-MODIFIED:20220606T174251Z
UID:27982-1654804800-1654815600@thevelvetnote.com
SUMMARY:Thursday\, June 9th:  Open Mic Jam Hosted by Club Owner Tamara Fuller
DESCRIPTION:This is our first-ever open-mic performance competition and last week was packed\, and tons of fun!Throughout the month of June\, we are searching for the most enjoyable performance we can find\, and the winner will earn a coveted spot on The Velvet Note weekend calendar.  \n\n\n\nHosted by Club Owner Tamara Fuller and silently-judged by celebrity music couples\, each jam night is sure to feature the best vocal and instrumental music\, tons of fun and a benevolent\, the very best house band\, welcoming audience cheering you on. All genres are welcomed and encouraged.  \n\n\n\nAbout our Judges:  \n\n\n\nGary Motley is a jazz pianist and composer. He is best known for his captivating performances\, classic yet current sound\, and popularity in the southeastern United States jazz music scene. \n\n\n\nMotley has received awards from the National Endowment for the Arts\, the Great American Jazz Piano Competition and the American Composers Forum (ACF). Featured on NPR’s Piano Jazz with Marian McPartland\, his notable performances also include the premiere of his first orchestral work “The Artist and the Visionary\,” duo performances with pianists Dave Brubeck and Kenny Barron\, and concerts with Jon Faddis\, Eddie Daniels\, Benny Golson\, and others. Cited by his home state for his artistic and educational achievements\, Gary was inducted into the Alabama Jazz Hall of Fame in 2015. \n\n\n\nAs the Director of Jazz Studies at Emory University\, Gary has developed The Strickland Jazz Studio – an interactive teaching facility that integrates the rich heritage of American jazz with today’s technology practices. He holds memberships with the National Academy of Recording Arts and Sciences and the Jazz Education Network. \n\n\n\n \n\n\n\nVeronica Motley\, Ed.D.  is a psychotherapist\, writer\, educator\, vocalist\, wife and mom.
URL:https://thevelvetnote.com/event/thursday-june-9th-open-mic-jam-hosted-by-club-owner-tamara-fuller/
LOCATION:The Velvet Note Main Stage\, 4075 Old Milton Parkway\, Alpharetta\, 30005\, United States
ATTACH;FMTTYPE=image/jpeg:https://thevelvetnote.com/wp-content/uploads/2022/06/Open-Mic-Hosted-by-2.jpg
END:VEVENT
END:VCALENDAR