BEGIN:VCALENDAR
VERSION:2.0
PRODID:-//The Velvet Note - ECPv6.15.20//NONSGML v1.0//EN
CALSCALE:GREGORIAN
METHOD:PUBLISH
X-WR-CALNAME:The Velvet Note
X-ORIGINAL-URL:https://thevelvetnote.com
X-WR-CALDESC:Events for The Velvet Note
REFRESH-INTERVAL;VALUE=DURATION:PT1H
X-Robots-Tag:noindex
X-PUBLISHED-TTL:PT1H
BEGIN:VTIMEZONE
TZID:America/New_York
BEGIN:DAYLIGHT
TZOFFSETFROM:-0500
TZOFFSETTO:-0400
TZNAME:EDT
DTSTART:20210314T070000
END:DAYLIGHT
BEGIN:STANDARD
TZOFFSETFROM:-0400
TZOFFSETTO:-0500
TZNAME:EST
DTSTART:20211107T060000
END:STANDARD
BEGIN:DAYLIGHT
TZOFFSETFROM:-0500
TZOFFSETTO:-0400
TZNAME:EDT
DTSTART:20220313T070000
END:DAYLIGHT
BEGIN:STANDARD
TZOFFSETFROM:-0400
TZOFFSETTO:-0500
TZNAME:EST
DTSTART:20221106T060000
END:STANDARD
BEGIN:DAYLIGHT
TZOFFSETFROM:-0500
TZOFFSETTO:-0400
TZNAME:EDT
DTSTART:20230312T070000
END:DAYLIGHT
BEGIN:STANDARD
TZOFFSETFROM:-0400
TZOFFSETTO:-0500
TZNAME:EST
DTSTART:20231105T060000
END:STANDARD
END:VTIMEZONE
BEGIN:VEVENT
DTSTART;TZID=America/New_York:20220604T193000
DTEND;TZID=America/New_York:20220604T230000
DTSTAMP:20260424T092246
CREATED:20220516T011507Z
LAST-MODIFIED:20220516T011602Z
UID:27930-1654371000-1654383600@thevelvetnote.com
SUMMARY:Saturday\, June 4th:  An Evening with Laila Biali
DESCRIPTION:Multi award-winning Canadian singer-songwriter\, pianist and CBC Music national broadcaster has performed festivals and venues spanning five continents from New York City’s Carnegie Hall to Beijing’s National Centre for the Performing Arts\, and supported international icon Sting. In 2020\, Laila was honoured by SOCAN Music with the Hagood Hardy Award for Excellence in Songwriting.
URL:https://thevelvetnote.com/event/saturday-june-4th-an-evening-with-laila-biali/
LOCATION:The Velvet Note Main Stage\, 4075 Old Milton Parkway\, Alpharetta\, 30005\, United States
ATTACH;FMTTYPE=application/pdf:https://thevelvetnote.com/wp-content/uploads/2022/05/AN-EVENING-WITH.pdf
END:VEVENT
END:VCALENDAR