BEGIN:VCALENDAR
VERSION:2.0
PRODID:-//The Velvet Note - ECPv6.15.20//NONSGML v1.0//EN
CALSCALE:GREGORIAN
METHOD:PUBLISH
X-ORIGINAL-URL:https://thevelvetnote.com
X-WR-CALDESC:Events for The Velvet Note
REFRESH-INTERVAL;VALUE=DURATION:PT1H
X-Robots-Tag:noindex
X-PUBLISHED-TTL:PT1H
BEGIN:VTIMEZONE
TZID:America/New_York
BEGIN:DAYLIGHT
TZOFFSETFROM:-0500
TZOFFSETTO:-0400
TZNAME:EDT
DTSTART:20210314T070000
END:DAYLIGHT
BEGIN:STANDARD
TZOFFSETFROM:-0400
TZOFFSETTO:-0500
TZNAME:EST
DTSTART:20211107T060000
END:STANDARD
BEGIN:DAYLIGHT
TZOFFSETFROM:-0500
TZOFFSETTO:-0400
TZNAME:EDT
DTSTART:20220313T070000
END:DAYLIGHT
BEGIN:STANDARD
TZOFFSETFROM:-0400
TZOFFSETTO:-0500
TZNAME:EST
DTSTART:20221106T060000
END:STANDARD
BEGIN:DAYLIGHT
TZOFFSETFROM:-0500
TZOFFSETTO:-0400
TZNAME:EDT
DTSTART:20230312T070000
END:DAYLIGHT
BEGIN:STANDARD
TZOFFSETFROM:-0400
TZOFFSETTO:-0500
TZNAME:EST
DTSTART:20231105T060000
END:STANDARD
END:VTIMEZONE
BEGIN:VEVENT
DTSTART;TZID=America/New_York:20220603T193000
DTEND;TZID=America/New_York:20220603T230000
DTSTAMP:20260424T092304
CREATED:20220525T134001Z
LAST-MODIFIED:20220525T134013Z
UID:27962-1654284600-1654297200@thevelvetnote.com
SUMMARY:Friday\, June 3rd:  The Velvet Note's 10th Anniversary\, Starring Joey Sommerville!
DESCRIPTION:This is it!   The Velvet Note’s big anniversary party is here and you are invited!  It’s gonna be a jazz party throw down of great talent\, food spirits and extra fun.   \n\n\n\nJoey has received numerous awards and accolades including The American Society of Young Musicians All That Jazz Award. He was a featured soloist on the Cirque du Soleil’s Juno Award winning and Grammy nominated album\, Alegria.  \n\n\n\nHe is an active community servant and is on the Board of Directors of The How Big Is Your Dream Foundation\, an Atlanta based charity that provides music education programs to students in underserved communities. He is also an active member of NARAS/The Recording Academy (Grammys)\, having served two terms on the Atlanta Chapter’s Board of Governors. 
URL:https://thevelvetnote.com/event/friday-june-3rd-the-velvet-notes-10th-anniversary-starring-joey-sommerville/
LOCATION:The Velvet Note Main Stage\, 4075 Old Milton Parkway\, Alpharetta\, 30005\, United States
ATTACH;FMTTYPE=image/jpeg:https://thevelvetnote.com/wp-content/uploads/2022/05/Our-Tenth-Anniversary-Jazz-Party.jpg
END:VEVENT
END:VCALENDAR