BEGIN:VCALENDAR
VERSION:2.0
PRODID:-//The Velvet Note - ECPv6.15.20//NONSGML v1.0//EN
CALSCALE:GREGORIAN
METHOD:PUBLISH
X-ORIGINAL-URL:https://thevelvetnote.com
X-WR-CALDESC:Events for The Velvet Note
REFRESH-INTERVAL;VALUE=DURATION:PT1H
X-Robots-Tag:noindex
X-PUBLISHED-TTL:PT1H
BEGIN:VTIMEZONE
TZID:America/New_York
BEGIN:DAYLIGHT
TZOFFSETFROM:-0500
TZOFFSETTO:-0400
TZNAME:EDT
DTSTART:20210314T070000
END:DAYLIGHT
BEGIN:STANDARD
TZOFFSETFROM:-0400
TZOFFSETTO:-0500
TZNAME:EST
DTSTART:20211107T060000
END:STANDARD
BEGIN:DAYLIGHT
TZOFFSETFROM:-0500
TZOFFSETTO:-0400
TZNAME:EDT
DTSTART:20220313T070000
END:DAYLIGHT
BEGIN:STANDARD
TZOFFSETFROM:-0400
TZOFFSETTO:-0500
TZNAME:EST
DTSTART:20221106T060000
END:STANDARD
BEGIN:DAYLIGHT
TZOFFSETFROM:-0500
TZOFFSETTO:-0400
TZNAME:EDT
DTSTART:20230312T070000
END:DAYLIGHT
BEGIN:STANDARD
TZOFFSETFROM:-0400
TZOFFSETTO:-0500
TZNAME:EST
DTSTART:20231105T060000
END:STANDARD
END:VTIMEZONE
BEGIN:VEVENT
DTSTART;TZID=America/New_York:20220528T193000
DTEND;TZID=America/New_York:20220528T230000
DTSTAMP:20260424T105115
CREATED:20220422T013334Z
LAST-MODIFIED:20220527T162334Z
UID:27902-1653766200-1653778800@thevelvetnote.com
SUMMARY:Saturday\, May 28th:  The Michelle Malone Band
DESCRIPTION:SHOWTIMES:   7:30PM AND 9:30PM.   Michelle Malone is an award-winning American singer\, songwriter\, guitarist\, and producer in the rock\, folk\, blues and pop idioms. Malone was born and raised in Atlanta\, GA by a musician mom with whom she toured in the summers. She grew up listening to her mother and grandmother sing in the church choir every Sunday when they werent on the road. She dropped out of high school at 16 to begin work on her rock and roll degree. After a few brushes with the law and some unsavory characters\, Michelle decided to go back to high school and became the valedictorian for a small class. She attended Agnes Scott College with dreams of becoming a doctor\, but was offered a record deal with Clive Davis at Arista Records\, which looked alot more interesting to her than more school. When it came time to craft her own sound\, she took those religious and secular roots\, blended in enough folk\, blues and rock to satisfy\, and came up with a rootsy high-spirited sound that brings acoustic and electric slide and passionate vocals together harkening back to the lost recordings of Bonnie Raitt\, Susan Tedeschi\, and Lucinda Williams. After several major label releases\, Malone is now an independent artist with 15 studio records to date and an impressive resume which includes hi profile performances with everyone from Gregg Allman to John Mayer\, the Atlanta Symphony to Ellen Degeneres\, various awards including best albums\, 4x best singer\, 3x best acoustic guitarist\, and 2 Grammy ballot nominations. 
URL:https://thevelvetnote.com/event/saturday-may-28th-the-michelle-malone-band/
LOCATION:The Velvet Note Main Stage\, 4075 Old Milton Parkway\, Alpharetta\, 30005\, United States
ATTACH;FMTTYPE=image/jpeg:https://thevelvetnote.com/wp-content/uploads/2022/04/5D131A34-35B4-412C-9559-F66692DB76F1_4_5005_c.jpeg
END:VEVENT
END:VCALENDAR