BEGIN:VCALENDAR
VERSION:2.0
PRODID:-//The Velvet Note - ECPv6.15.20//NONSGML v1.0//EN
CALSCALE:GREGORIAN
METHOD:PUBLISH
X-ORIGINAL-URL:https://thevelvetnote.com
X-WR-CALDESC:Events for The Velvet Note
REFRESH-INTERVAL;VALUE=DURATION:PT1H
X-Robots-Tag:noindex
X-PUBLISHED-TTL:PT1H
BEGIN:VTIMEZONE
TZID:America/New_York
BEGIN:DAYLIGHT
TZOFFSETFROM:-0500
TZOFFSETTO:-0400
TZNAME:EDT
DTSTART:20210314T070000
END:DAYLIGHT
BEGIN:STANDARD
TZOFFSETFROM:-0400
TZOFFSETTO:-0500
TZNAME:EST
DTSTART:20211107T060000
END:STANDARD
BEGIN:DAYLIGHT
TZOFFSETFROM:-0500
TZOFFSETTO:-0400
TZNAME:EDT
DTSTART:20220313T070000
END:DAYLIGHT
BEGIN:STANDARD
TZOFFSETFROM:-0400
TZOFFSETTO:-0500
TZNAME:EST
DTSTART:20221106T060000
END:STANDARD
BEGIN:DAYLIGHT
TZOFFSETFROM:-0500
TZOFFSETTO:-0400
TZNAME:EDT
DTSTART:20230312T070000
END:DAYLIGHT
BEGIN:STANDARD
TZOFFSETFROM:-0400
TZOFFSETTO:-0500
TZNAME:EST
DTSTART:20231105T060000
END:STANDARD
END:VTIMEZONE
BEGIN:VEVENT
DTSTART;TZID=America/New_York:20220520T193000
DTEND;TZID=America/New_York:20220521T230000
DTSTAMP:20260424T105115
CREATED:20220421T215846Z
LAST-MODIFIED:20220516T194731Z
UID:27895-1653075000-1653174000@thevelvetnote.com
SUMMARY:Friday\, May 20th & Saturday\, May 21st:  Famed Trumpeter Dominick Farinacci
DESCRIPTION:FRIDAY AND SATURDAY SHOWTIMES:  7:30PM AND 9:30PM. \n\n\n\nTrumpeter Dominick Farinacci graduated from the first jazz program offered by The Juilliard School\,  and proceeded to launch his career with a prolific run of eight albums.   Farinacci was named the very first Global Ambassador to Jazz at Lincoln Center by Wynton Marsalis\, working to further integrate music into communities around the world in culturally collaborative ways.   In 2006 Farinacci was featured at the Kennedy Center in Washington D.C. on Dee Dee Bridgewater‘s JazzSet for NPR\, as well as at the Tanglewood Jazz Festival.  He has performed in more than 120 cities in 14 countries around the world\, was a featured guest on ABC’s Good Morning America\, and is a TED Speaker.  \n\n\n\nMusic icon Quincy Jones says of Dominick’s accomplishments in performance\, recording\, education & advocacy\, “This kid is 360 degrees!”  \n\n\n\n\n\n\n\nDominick has been successful in his personal endeavors\, which involve bringing music into the community through Arts and Wellness & Education. He was invited by TED to be a TED Speaker at the 2014 TED MED conference at the Kennedy Center in Washington\, DC. He is a featured performer for the Cleveland Clinic in both Ohio and Abu Dhabi\, and organized the very first jazz performance for patients in Abu Dhabi in collaboration with the Cleveland Clinic and the Abu Dhabi Music and Arts Foundation.  His educational reach recently expanded to the GCC\, in schools such as Weill Cornell Medical College\, Qatar Music Academy\, the American School of Doha among others.  \n\n\n\nHis most recent recording “Short Stories” is produced by four-time Grammy Award winning producer Tommy LiPuma. This was Tommy & Dominick’s first collaboration\, and was recorded in their hometown of Cleveland at the Gill and Tommy LiPuma Center for Creative Arts. Dominick is signed to Mack Avenue Records.
URL:https://thevelvetnote.com/event/friday-may-20th-saturday-may-21st-famed-trumpeter-dominick-farinacci/
LOCATION:The Velvet Note Main Stage\, 4075 Old Milton Parkway\, Alpharetta\, 30005\, United States
ATTACH;FMTTYPE=image/jpeg:https://thevelvetnote.com/wp-content/uploads/2022/04/CD8FF529-E647-4161-B8EE-9636D81F4D5A.jpeg
END:VEVENT
END:VCALENDAR