BEGIN:VCALENDAR
VERSION:2.0
PRODID:-//The Velvet Note - ECPv6.15.20//NONSGML v1.0//EN
CALSCALE:GREGORIAN
METHOD:PUBLISH
X-WR-CALNAME:The Velvet Note
X-ORIGINAL-URL:https://thevelvetnote.com
X-WR-CALDESC:Events for The Velvet Note
REFRESH-INTERVAL;VALUE=DURATION:PT1H
X-Robots-Tag:noindex
X-PUBLISHED-TTL:PT1H
BEGIN:VTIMEZONE
TZID:America/New_York
BEGIN:DAYLIGHT
TZOFFSETFROM:-0500
TZOFFSETTO:-0400
TZNAME:EDT
DTSTART:20210314T070000
END:DAYLIGHT
BEGIN:STANDARD
TZOFFSETFROM:-0400
TZOFFSETTO:-0500
TZNAME:EST
DTSTART:20211107T060000
END:STANDARD
BEGIN:DAYLIGHT
TZOFFSETFROM:-0500
TZOFFSETTO:-0400
TZNAME:EDT
DTSTART:20220313T070000
END:DAYLIGHT
BEGIN:STANDARD
TZOFFSETFROM:-0400
TZOFFSETTO:-0500
TZNAME:EST
DTSTART:20221106T060000
END:STANDARD
BEGIN:DAYLIGHT
TZOFFSETFROM:-0500
TZOFFSETTO:-0400
TZNAME:EDT
DTSTART:20230312T070000
END:DAYLIGHT
BEGIN:STANDARD
TZOFFSETFROM:-0400
TZOFFSETTO:-0500
TZNAME:EST
DTSTART:20231105T060000
END:STANDARD
END:VTIMEZONE
BEGIN:VEVENT
DTSTART;TZID=America/New_York:20220429T193000
DTEND;TZID=America/New_York:20220430T230000
DTSTAMP:20260424T105010
CREATED:20220419T154658Z
LAST-MODIFIED:20220429T213653Z
UID:27871-1651260600-1651359600@thevelvetnote.com
SUMMARY:Friday\, April 29th and Saturday\, April 30th:  The Nat Adderley\, Jr. Quartet    ***   SOLD OUT!!   SOLD OUT!!  SOLD OUT!!   SOLD OUT!!  ***
DESCRIPTION:SHOWTIMES:  Friday\, April 29th @ 7:30pm and 9:30pm \n\n\n\nSaturday\, April 30th @ 7:30pm and 9:30pm  \n\n\n\n\n\n\n\nNat Adderley\, Jr.\, is a renowned jazz pianist\, bandleader\, arranger\, and producer. Nat is perhaps best known for his more than twenty-year tenure as music director for R&B legend Luther Vandross\, during which time he wrote\, arranged\, and produced some of Luther’s most iconic and beloved songs. He is also known for his work on the recordings of Kirk Whalum\, Gloria Lynn\, and Aretha Franklin. Nat Adderley\, Jr. received his BA from Yale University. \n\n\n\nIn recent years\, Nat has primarily been seen performing with his jazz ensemble\, as well as in the piano chair with notable jazz musicians including Vincent Herring\, Regina Carter\, Tom Scott\, and Jay Hoggard.Nat has appeared at jazz festivals and venues all over the world including Beijing\, Singapore\, Cape Town\, Vienna\, Tokyo\, and at the INNtöne Jazzfestival in Diersbach. In 2019\, Nat’s band headlined the Central Jersey Jazz Festival\, produced by WBGO’s Sheila Anderson. Most recently\, Nat headlined the star-studded reopening of the storied Apollo Theater in Harlem. Nat’s inimitable style—his authentic and reverential craft as a jazz pianist\, mixed with his mastery of pop and R&B idioms\, his unparalleled musical sensitivity and artistry\, and his showman’s charm and wit—make his shows memorable events that are not to be missed.   ****  SOLD OUT!!  SOLD OUT!!   SOLD OUT!!   SOLD OUT!!  *******
URL:https://thevelvetnote.com/event/friday-april-29th-and-saturday-april-30th-the-nat-adderley-jr-quartet/
LOCATION:The Velvet Note Main Stage\, 4075 Old Milton Parkway\, Alpharetta\, 30005\, United States
ATTACH;FMTTYPE=image/jpeg:https://thevelvetnote.com/wp-content/uploads/2022/04/image1-3.jpeg
END:VEVENT
END:VCALENDAR