BEGIN:VCALENDAR
VERSION:2.0
PRODID:-//The Velvet Note - ECPv6.15.20//NONSGML v1.0//EN
CALSCALE:GREGORIAN
METHOD:PUBLISH
X-WR-CALNAME:The Velvet Note
X-ORIGINAL-URL:https://thevelvetnote.com
X-WR-CALDESC:Events for The Velvet Note
REFRESH-INTERVAL;VALUE=DURATION:PT1H
X-Robots-Tag:noindex
X-PUBLISHED-TTL:PT1H
BEGIN:VTIMEZONE
TZID:America/New_York
BEGIN:DAYLIGHT
TZOFFSETFROM:-0500
TZOFFSETTO:-0400
TZNAME:EDT
DTSTART:20210314T070000
END:DAYLIGHT
BEGIN:STANDARD
TZOFFSETFROM:-0400
TZOFFSETTO:-0500
TZNAME:EST
DTSTART:20211107T060000
END:STANDARD
BEGIN:DAYLIGHT
TZOFFSETFROM:-0500
TZOFFSETTO:-0400
TZNAME:EDT
DTSTART:20220313T070000
END:DAYLIGHT
BEGIN:STANDARD
TZOFFSETFROM:-0400
TZOFFSETTO:-0500
TZNAME:EST
DTSTART:20221106T060000
END:STANDARD
BEGIN:DAYLIGHT
TZOFFSETFROM:-0500
TZOFFSETTO:-0400
TZNAME:EDT
DTSTART:20230312T070000
END:DAYLIGHT
BEGIN:STANDARD
TZOFFSETFROM:-0400
TZOFFSETTO:-0500
TZNAME:EST
DTSTART:20231105T060000
END:STANDARD
END:VTIMEZONE
BEGIN:VEVENT
DTSTART;TZID=America/New_York:20220428T200000
DTEND;TZID=America/New_York:20220428T230000
DTSTAMP:20260424T105010
CREATED:20220419T230335Z
LAST-MODIFIED:20220419T230353Z
UID:27882-1651176000-1651186800@thevelvetnote.com
SUMMARY:Thursday\, April 28th:  Open Mic Jam Hosted by Guitarist/Singer Andrew Black
DESCRIPTION:Showtime: 8pm – 11pm (come when you’d like). Have you tried OPEN MIC JAZZ JAM at Atlanta area’s #1 rated jazz club? . It’s like karaoke\, but much\, much better. Come out to The Velvet Note and listen to or jam with our extraordinary house band\, including piano virtuoso Randy Hoexter\, bassist Andre Manga\, world drummer Yakou N’Guesson\, and guitarist Bill Hart. Come hungry– we are rolling out our delicious house specialities for the week on Thursdays. Hosted by Singer/Guitarist Andrew Black. All genres welcomed!
URL:https://thevelvetnote.com/event/thursday-april-28th-open-mic-jam-hosted-by-guitarist-singer-andrew-black/
LOCATION:The Velvet Note Main Stage\, 4075 Old Milton Parkway\, Alpharetta\, 30005\, United States
ATTACH;FMTTYPE=image/jpeg:https://thevelvetnote.com/wp-content/uploads/2022/03/4672B8E5-C8FB-41A7-B15A-E93B4996BF82.jpeg
END:VEVENT
END:VCALENDAR