BEGIN:VCALENDAR
VERSION:2.0
PRODID:-//The Velvet Note - ECPv6.15.20//NONSGML v1.0//EN
CALSCALE:GREGORIAN
METHOD:PUBLISH
X-ORIGINAL-URL:https://thevelvetnote.com
X-WR-CALDESC:Events for The Velvet Note
REFRESH-INTERVAL;VALUE=DURATION:PT1H
X-Robots-Tag:noindex
X-PUBLISHED-TTL:PT1H
BEGIN:VTIMEZONE
TZID:America/New_York
BEGIN:DAYLIGHT
TZOFFSETFROM:-0500
TZOFFSETTO:-0400
TZNAME:EDT
DTSTART:20210314T070000
END:DAYLIGHT
BEGIN:STANDARD
TZOFFSETFROM:-0400
TZOFFSETTO:-0500
TZNAME:EST
DTSTART:20211107T060000
END:STANDARD
BEGIN:DAYLIGHT
TZOFFSETFROM:-0500
TZOFFSETTO:-0400
TZNAME:EDT
DTSTART:20220313T070000
END:DAYLIGHT
BEGIN:STANDARD
TZOFFSETFROM:-0400
TZOFFSETTO:-0500
TZNAME:EST
DTSTART:20221106T060000
END:STANDARD
BEGIN:DAYLIGHT
TZOFFSETFROM:-0500
TZOFFSETTO:-0400
TZNAME:EDT
DTSTART:20230312T070000
END:DAYLIGHT
BEGIN:STANDARD
TZOFFSETFROM:-0400
TZOFFSETTO:-0500
TZNAME:EST
DTSTART:20231105T060000
END:STANDARD
END:VTIMEZONE
BEGIN:VEVENT
DTSTART;TZID=America/New_York:20220410T190000
DTEND;TZID=America/New_York:20220410T223000
DTSTAMP:20260424T121410
CREATED:20220323T122155Z
LAST-MODIFIED:20220324T120345Z
UID:27808-1649617200-1649629800@thevelvetnote.com
SUMMARY:Sunday\, April 10th:  Vibraphonist Drew Tucker
DESCRIPTION:SHOWTIMES:  7:00PM AND 9:00PM \n\n\n\nDrew Tucker is a musician\, educator and social entrepreneur – a unique combination that place him at the intersection of the arts and activism. \n\n\n\nArtistically\, he’s at the forefront of the movement to reinvent the vibraphone – a dynamic instrument that he melds with soul\, funk\, jazz and hip-hop influences. His jazz influenced twists on modern-day standards from Michael Jackson\, to Prince and The Police\, have earned him key endorsements from Mike Balter\, Malletech and Sabian Cymbals – and the applause of soldout audiences nationwide. \n\n\n\nThe passion he brings to the stage is also present in his classroom. Drew’s one of the most sought after educators in mallet education\, which he led to him being a top front ensemble coach in Florida. He’s proud to note that 100% of his students have gone on to succeed in art school and university auditions. \n\n\n\nAs a community activist and Cultural Arts Director at Redevelopment Management Associates (RMA) \, he’s driven to revitalize areas of Florida through the creation of arts centers in underserved neighborhoods. Through his leadership and musicianship\, he strives to not only raise spirits\, but set an example of excellence and open opportunities for students\, families and communities to realize their potential. \n\n\n\nWhether performing alongside Grammy winners as a world-class vibraphonist\, coaching eager high school students through national music competitions\, or leading and directing the growth of local arts institutions\, Drew’s passion for improving people’s lives through artistic endeavor is unwavering.
URL:https://thevelvetnote.com/event/sunday-april-10th-vibraphonist-drew-tucker/
LOCATION:The Velvet Note Main Stage\, 4075 Old Milton Parkway\, Alpharetta\, 30005\, United States
ATTACH;FMTTYPE=image/jpeg:https://thevelvetnote.com/wp-content/uploads/2022/03/364C4798-BCCA-4D3D-BB9E-5994E148EAAD_4_5005_c.jpeg
END:VEVENT
END:VCALENDAR