BEGIN:VCALENDAR
VERSION:2.0
PRODID:-//The Velvet Note - ECPv6.15.20//NONSGML v1.0//EN
CALSCALE:GREGORIAN
METHOD:PUBLISH
X-ORIGINAL-URL:https://thevelvetnote.com
X-WR-CALDESC:Events for The Velvet Note
REFRESH-INTERVAL;VALUE=DURATION:PT1H
X-Robots-Tag:noindex
X-PUBLISHED-TTL:PT1H
BEGIN:VTIMEZONE
TZID:America/New_York
BEGIN:DAYLIGHT
TZOFFSETFROM:-0500
TZOFFSETTO:-0400
TZNAME:EDT
DTSTART:20210314T070000
END:DAYLIGHT
BEGIN:STANDARD
TZOFFSETFROM:-0400
TZOFFSETTO:-0500
TZNAME:EST
DTSTART:20211107T060000
END:STANDARD
BEGIN:DAYLIGHT
TZOFFSETFROM:-0500
TZOFFSETTO:-0400
TZNAME:EDT
DTSTART:20220313T070000
END:DAYLIGHT
BEGIN:STANDARD
TZOFFSETFROM:-0400
TZOFFSETTO:-0500
TZNAME:EST
DTSTART:20221106T060000
END:STANDARD
BEGIN:DAYLIGHT
TZOFFSETFROM:-0500
TZOFFSETTO:-0400
TZNAME:EDT
DTSTART:20230312T070000
END:DAYLIGHT
BEGIN:STANDARD
TZOFFSETFROM:-0400
TZOFFSETTO:-0500
TZNAME:EST
DTSTART:20231105T060000
END:STANDARD
END:VTIMEZONE
BEGIN:VEVENT
DTSTART;TZID=America/New_York:20220403T190000
DTEND;TZID=America/New_York:20220403T203000
DTSTAMP:20260424T121410
CREATED:20220328T190337Z
LAST-MODIFIED:20220403T213129Z
UID:27834-1649012400-1649017800@thevelvetnote.com
SUMMARY:Sunday\, April 3rd:  Legends of Jazz Presents The Music of JJ Johnson  *** SOLD OUT!!   SOLD OUT!!   SOLD OUT!! ***
DESCRIPTION:ONE SHOW ONLY– 7:00PM It’s the TENTH Season of Legends of Jazz\, and in Episode 2\, The Justin Varnes Quartet plays tribute to the music of Trombonist JJ Johnson \n\n\n\nAs with the entire Legends of Jazz series\, Mr. Varnes will guide guests–in engaging\, narrative form– through the life of the artist\, as well as the impact that his life influences had on his musical legacy.   It’s like taking in a concert and taking a jazz history class at the same time.   \n\n\n\nOh\, and they’ll also play their behinds off!    ***   SOLD OUT!!   SOLD OUT!!   SOLD OUT!!   SOLD OUT!!  ***
URL:https://thevelvetnote.com/event/sunday-april-3rd-legends-of-jazz-presents-the-music-of-jj-johnson/
LOCATION:The Velvet Note Main Stage\, 4075 Old Milton Parkway\, Alpharetta\, 30005\, United States
ATTACH;FMTTYPE=image/jpeg:https://thevelvetnote.com/wp-content/uploads/2022/03/C36296C8-CFCD-4B43-976F-B73B19D13695.jpeg
END:VEVENT
END:VCALENDAR