BEGIN:VCALENDAR
VERSION:2.0
PRODID:-//The Velvet Note - ECPv6.15.20//NONSGML v1.0//EN
CALSCALE:GREGORIAN
METHOD:PUBLISH
X-WR-CALNAME:The Velvet Note
X-ORIGINAL-URL:https://thevelvetnote.com
X-WR-CALDESC:Events for The Velvet Note
REFRESH-INTERVAL;VALUE=DURATION:PT1H
X-Robots-Tag:noindex
X-PUBLISHED-TTL:PT1H
BEGIN:VTIMEZONE
TZID:America/New_York
BEGIN:DAYLIGHT
TZOFFSETFROM:-0500
TZOFFSETTO:-0400
TZNAME:EDT
DTSTART:20210314T070000
END:DAYLIGHT
BEGIN:STANDARD
TZOFFSETFROM:-0400
TZOFFSETTO:-0500
TZNAME:EST
DTSTART:20211107T060000
END:STANDARD
BEGIN:DAYLIGHT
TZOFFSETFROM:-0500
TZOFFSETTO:-0400
TZNAME:EDT
DTSTART:20220313T070000
END:DAYLIGHT
BEGIN:STANDARD
TZOFFSETFROM:-0400
TZOFFSETTO:-0500
TZNAME:EST
DTSTART:20221106T060000
END:STANDARD
BEGIN:DAYLIGHT
TZOFFSETFROM:-0500
TZOFFSETTO:-0400
TZNAME:EDT
DTSTART:20230312T070000
END:DAYLIGHT
BEGIN:STANDARD
TZOFFSETFROM:-0400
TZOFFSETTO:-0500
TZNAME:EST
DTSTART:20231105T060000
END:STANDARD
END:VTIMEZONE
BEGIN:VEVENT
DTSTART;TZID=America/New_York:20220402T193000
DTEND;TZID=America/New_York:20220402T230000
DTSTAMP:20260424T121337
CREATED:20220323T193758Z
LAST-MODIFIED:20220323T193928Z
UID:27821-1648927800-1648940400@thevelvetnote.com
SUMMARY:Saturday\, April 2nd:  Kelley Andres' Jazzy Soul
DESCRIPTION:SHOWTIMES:   7:30PM AND 9:30PM.    No newcomer to the art of performing\, Kelley Andre is a multi-talented Entertainer\, Singer and Songwriter. A New York native\, his infused R&B\, Jazz\, Funk\, New Soul sound and style delivers a distinct & melodic 2nd Tenor/ Baritone flavor that permeates inner souls.  \n\n\n\nLISTEN TO KELLEY ANDRE PERFORM HERE. \n\n\n\nFasten your seatbelts when Kelley Andre enters because the party is about to begin this multi talented entertainer has engulfed the entertainment world with his diverse memorable performances.  \n\n\n\nGrowing up in a house where Gospel and Jazz music were his tools of war\, Kelley commenced his musical journey at the age of six\, playing the piano.  \n\n\n\nFollowing his passion\, doors began to open in the entertainment industry. In 2005\, he was the understudy for the character Collins\, in the hit Broadway play Rent. In 2016\, Kelley played the character of Snipes\, in the off-Broadway play\, No Me Dan͂e La Raza (Don’t Mess Up Our Race). In 2019 Kelley Received the Nina Simone Artistic Excellence Award in R&B music entertainment with Citations & Accolades from NYC’s Mayor Bill De’Blasio\, Senator Kevin Parker & Borough President Eric Adams Of NYC.  \n\n\n\nKelley sang choral backgrounds for Don Henley\, Mark Anthony and Mariah Carey. Additionally has graced the stage with the likes of R&B crooners Carl Thomas \,Christopher Williams\, Calvin Richardson\, he has premiered his Organic Soul band for Tony Bennet\, Oprah Winfrey\, Ashford & Simpson\, Howard Hewett \, Case\, SWV\, Melisa Morgan and many other events. Kelley has been a staple in captivating his audiences in NYC most prominent Live Music venues.
URL:https://thevelvetnote.com/event/saturday-april-2nd-kelley-andres-jazzy-soul/
LOCATION:The Velvet Note Main Stage\, 4075 Old Milton Parkway\, Alpharetta\, 30005\, United States
ATTACH;FMTTYPE=image/jpeg:https://thevelvetnote.com/wp-content/uploads/2022/03/39ADBD50-C5E1-4601-BF02-CAD5C245A981.jpeg
END:VEVENT
END:VCALENDAR