BEGIN:VCALENDAR
VERSION:2.0
PRODID:-//The Velvet Note - ECPv6.15.20//NONSGML v1.0//EN
CALSCALE:GREGORIAN
METHOD:PUBLISH
X-ORIGINAL-URL:https://thevelvetnote.com
X-WR-CALDESC:Events for The Velvet Note
REFRESH-INTERVAL;VALUE=DURATION:PT1H
X-Robots-Tag:noindex
X-PUBLISHED-TTL:PT1H
BEGIN:VTIMEZONE
TZID:America/New_York
BEGIN:DAYLIGHT
TZOFFSETFROM:-0500
TZOFFSETTO:-0400
TZNAME:EDT
DTSTART:20210314T070000
END:DAYLIGHT
BEGIN:STANDARD
TZOFFSETFROM:-0400
TZOFFSETTO:-0500
TZNAME:EST
DTSTART:20211107T060000
END:STANDARD
BEGIN:DAYLIGHT
TZOFFSETFROM:-0500
TZOFFSETTO:-0400
TZNAME:EDT
DTSTART:20220313T070000
END:DAYLIGHT
BEGIN:STANDARD
TZOFFSETFROM:-0400
TZOFFSETTO:-0500
TZNAME:EST
DTSTART:20221106T060000
END:STANDARD
BEGIN:DAYLIGHT
TZOFFSETFROM:-0500
TZOFFSETTO:-0400
TZNAME:EDT
DTSTART:20230312T070000
END:DAYLIGHT
BEGIN:STANDARD
TZOFFSETFROM:-0400
TZOFFSETTO:-0500
TZNAME:EST
DTSTART:20231105T060000
END:STANDARD
END:VTIMEZONE
BEGIN:VEVENT
DTSTART;TZID=America/New_York:20220401T193000
DTEND;TZID=America/New_York:20220401T230000
DTSTAMP:20260424T121410
CREATED:20220323T152725Z
LAST-MODIFIED:20220401T053804Z
UID:27812-1648841400-1648854000@thevelvetnote.com
SUMMARY:Friday\, April 1st:   Funkyard X
DESCRIPTION:SHOWTIMES:  7:30PM AND 9:30PM.  ** NOTE:  7:30 SHOW IS SOLD OUT!  ** \n\n\n\n\n\n\n\nSHOWTIMES:  7:30PM AND 9:30PM.   It’s April Fool’s Day\, but we’re not joking around.  This is the most righteous brass-funk band to come out of the midwest since Earth\, Wind and Fire\, and they’re going to throw it down at The Velvet Note!   Come for the drinks\, food and fun on a TGIF\, stay for the unique and amazing music! \n\n\n\nThe Funkyard Experiment emerged in 2013 by founder Steve Johnson\, creatively inspired by these pioneers\, but with a twist of gospel\, jazz and fusion. The FunkyardX’s musical performances are soul laced and loaded with head nodding funky rhythms powered with massive energy drawn from rock influences. This combination has dazzled every audience that witnessed their musical wizardry. The FunkyardX is made up of nine musicians–analog synth players Steve Johnson & Leon Turner\, drummer Johnny Blaze Turner\, lead guitarist Chris George\, bassist Jeremiah Napier\, vocalist & rhodes player Willie Mac\, trumpeter Daniel Spearman\, saxophonist Johnny Cochran\, and trombonist Michael Spearman. The band is based in Cleveland Ohio\, the home of Bone\, Thugs & Harmony\, the legendary O’Jays\, Levert\, Avant\, and the Rude Boys. In their short time together\, the band has accumulated over 1000 subscribers on YouTube & over 2500 likes on their Facebook fan page. FunkyardX has dazzled stages at multiple festivals\, in NAMM\, the International Musician’s Summit\, they backed up Angie Stone and shared the stage with the likes of Boney James\, and Najee.
URL:https://thevelvetnote.com/event/friday-april-1st-funkyard-x/
LOCATION:The Velvet Note Main Stage\, 4075 Old Milton Parkway\, Alpharetta\, 30005\, United States
ATTACH;FMTTYPE=image/jpeg:https://thevelvetnote.com/wp-content/uploads/2022/03/E43BDC86-D9E8-49A2-A428-1BA0F320B559.jpeg
END:VEVENT
END:VCALENDAR