BEGIN:VCALENDAR
VERSION:2.0
PRODID:-//The Velvet Note - ECPv6.15.20//NONSGML v1.0//EN
CALSCALE:GREGORIAN
METHOD:PUBLISH
X-ORIGINAL-URL:https://thevelvetnote.com
X-WR-CALDESC:Events for The Velvet Note
REFRESH-INTERVAL;VALUE=DURATION:PT1H
X-Robots-Tag:noindex
X-PUBLISHED-TTL:PT1H
BEGIN:VTIMEZONE
TZID:America/New_York
BEGIN:DAYLIGHT
TZOFFSETFROM:-0500
TZOFFSETTO:-0400
TZNAME:EDT
DTSTART:20210314T070000
END:DAYLIGHT
BEGIN:STANDARD
TZOFFSETFROM:-0400
TZOFFSETTO:-0500
TZNAME:EST
DTSTART:20211107T060000
END:STANDARD
BEGIN:DAYLIGHT
TZOFFSETFROM:-0500
TZOFFSETTO:-0400
TZNAME:EDT
DTSTART:20220313T070000
END:DAYLIGHT
BEGIN:STANDARD
TZOFFSETFROM:-0400
TZOFFSETTO:-0500
TZNAME:EST
DTSTART:20221106T060000
END:STANDARD
BEGIN:DAYLIGHT
TZOFFSETFROM:-0500
TZOFFSETTO:-0400
TZNAME:EDT
DTSTART:20230312T070000
END:DAYLIGHT
BEGIN:STANDARD
TZOFFSETFROM:-0400
TZOFFSETTO:-0500
TZNAME:EST
DTSTART:20231105T060000
END:STANDARD
END:VTIMEZONE
BEGIN:VEVENT
DTSTART;TZID=America/New_York:20220326T193000
DTEND;TZID=America/New_York:20220326T230000
DTSTAMP:20260424T135544
CREATED:20220122T044457Z
LAST-MODIFIED:20220326T205657Z
UID:27696-1648323000-1648335600@thevelvetnote.com
SUMMARY:Saturday\, March 26th:  Lori Williams ***  SOLD OUT!!  SOLD OUT!!  ***
DESCRIPTION:Acclaimed jazz vocalist Lori Williams possesses a most impressive resume as a performing artist\, educator\, songwriter\, producer\, support vocalist and musical theater actress.  Her reputation and level of respect are top shelf and unimpeachable. However\, this Washington\, D.C.-native Lori is electing to let her hair down to pursue a more relaxed passion path in the realms of the Quiet Storm and R&B-leaning Soul-Jazz. \n\n\n\nLori’s vocal instrument contains the kind of nuances that one could get lost in. From Michael J. West – The Washington City Paper\, “She has the kind of attenuation and subtlety that we associate with jazz singing instantly—a kind of jazz-vocal ‘discipline\,’ for lack of a better term. But Williams slips in hints—and sometimes dead giveaways—that she has packed away the kind of soul power that would make her a tremendous R&B or gospel singer. Perhaps it’s a sort of vocalist’s twist on Ernest Hemingway’s ‘iceberg theory’: What you hear on the surface is only about 10 percent of what’s really there. As it happens\, what is there is crystalline clarity\, perhaps the most precise articulation of any singer in town\, and a range that will\, when she runs it\, produce shivers.” \n\n\n\n****   SOLD OUT!!   SOLD OUT!!!   SOLD OUT!!   ***
URL:https://thevelvetnote.com/event/saturday-march-26th-lori-williams/
LOCATION:The Velvet Note Main Stage\, 4075 Old Milton Parkway\, Alpharetta\, 30005\, United States
ATTACH;FMTTYPE=image/jpeg:https://thevelvetnote.com/wp-content/uploads/2022/01/IMG_5821.jpeg
END:VEVENT
END:VCALENDAR