BEGIN:VCALENDAR
VERSION:2.0
PRODID:-//The Velvet Note - ECPv6.15.20//NONSGML v1.0//EN
CALSCALE:GREGORIAN
METHOD:PUBLISH
X-WR-CALNAME:The Velvet Note
X-ORIGINAL-URL:https://thevelvetnote.com
X-WR-CALDESC:Events for The Velvet Note
REFRESH-INTERVAL;VALUE=DURATION:PT1H
X-Robots-Tag:noindex
X-PUBLISHED-TTL:PT1H
BEGIN:VTIMEZONE
TZID:America/New_York
BEGIN:DAYLIGHT
TZOFFSETFROM:-0500
TZOFFSETTO:-0400
TZNAME:EDT
DTSTART:20210314T070000
END:DAYLIGHT
BEGIN:STANDARD
TZOFFSETFROM:-0400
TZOFFSETTO:-0500
TZNAME:EST
DTSTART:20211107T060000
END:STANDARD
BEGIN:DAYLIGHT
TZOFFSETFROM:-0500
TZOFFSETTO:-0400
TZNAME:EDT
DTSTART:20220313T070000
END:DAYLIGHT
BEGIN:STANDARD
TZOFFSETFROM:-0400
TZOFFSETTO:-0500
TZNAME:EST
DTSTART:20221106T060000
END:STANDARD
BEGIN:DAYLIGHT
TZOFFSETFROM:-0500
TZOFFSETTO:-0400
TZNAME:EDT
DTSTART:20230312T070000
END:DAYLIGHT
BEGIN:STANDARD
TZOFFSETFROM:-0400
TZOFFSETTO:-0500
TZNAME:EST
DTSTART:20231105T060000
END:STANDARD
END:VTIMEZONE
BEGIN:VEVENT
DTSTART;TZID=America/New_York:20220325T193000
DTEND;TZID=America/New_York:20220325T230000
DTSTAMP:20260424T135239
CREATED:20220301T184327Z
LAST-MODIFIED:20220324T204804Z
UID:27776-1648236600-1648249200@thevelvetnote.com
SUMMARY:Friday\, March 25th:  Dave Potter and Retro Groove CD Release Concert
DESCRIPTION:SHOWTIMES:  7:30PM AND 9:30PM.    Dave Potter is quickly becoming known as a formidable musician. He has performed with many well-known jazz artists and recorded 2 albums with Jason Marsalis\, as well as the soundtrack to a short film with bassist Delbert Felix. \n\n\n\nBorn in Danville\, VA\, Potter did not grow up into a musical family. “I got my first drumset when I was 15 years old and remained primarily self-taught until college\,” comments Potter. It was at Florida State University that he met pianist Marcus Roberts\, who would become one of his primary musical mentors. In 2005\, he was chosen from a national pool of applicants to be a member of the Louis Armstrong Quintet at the University of New Orleans. “I moved there to study with Herlin Riley. My goal was to learn as much about the jazz tradition as possible.”Unfortunately\, Mother Nature had different plans\, and his apartment\, along with most of the city\, was ravaged by the tragedy of Hurricane Katrina. After a brief stint teaching jazz and percussion at his high school Alma matter\, Potter returned to Florida State to study and perform with Marcus Roberts. After graduating in 2008\, he moved to Atlanta where he maintains a busy performance schedule.Throughout his career he has played in a variety of musical situations. “In high school I started playing in funk\, hip-hop\, and rock bands and ended up getting really into 70’s fusion.” It was also in high school that Dave began to play in musical theatre productions\, concert bands\, marching percussion ensembles\, and jazz ensembles under the direction of Dr. Andrew Sioberg. Once at FSU\, he began to study Afro-Caribbean percussion with acclaimed Puerto Rican pianist Jose “Papo” Carrasco\, as well as focusing more on classical snare drum and Jazz with Leon Anderson.”This broad range of study has allowed him to become one of the most in-demand young drummers in the scene today.
URL:https://thevelvetnote.com/event/friday-march-25th-dave-potter-and-retro-groove-cd-release-concert/
LOCATION:The Velvet Note Main Stage\, 4075 Old Milton Parkway\, Alpharetta\, 30005\, United States
ATTACH;FMTTYPE=image/jpeg:https://thevelvetnote.com/wp-content/uploads/2022/03/D1E28C05-1D4A-4100-B6C9-7462A79374E7_4_5005_c.jpeg
END:VEVENT
END:VCALENDAR