BEGIN:VCALENDAR
VERSION:2.0
PRODID:-//The Velvet Note - ECPv6.15.20//NONSGML v1.0//EN
CALSCALE:GREGORIAN
METHOD:PUBLISH
X-WR-CALNAME:The Velvet Note
X-ORIGINAL-URL:https://thevelvetnote.com
X-WR-CALDESC:Events for The Velvet Note
REFRESH-INTERVAL;VALUE=DURATION:PT1H
X-Robots-Tag:noindex
X-PUBLISHED-TTL:PT1H
BEGIN:VTIMEZONE
TZID:America/New_York
BEGIN:DAYLIGHT
TZOFFSETFROM:-0500
TZOFFSETTO:-0400
TZNAME:EDT
DTSTART:20210314T070000
END:DAYLIGHT
BEGIN:STANDARD
TZOFFSETFROM:-0400
TZOFFSETTO:-0500
TZNAME:EST
DTSTART:20211107T060000
END:STANDARD
BEGIN:DAYLIGHT
TZOFFSETFROM:-0500
TZOFFSETTO:-0400
TZNAME:EDT
DTSTART:20220313T070000
END:DAYLIGHT
BEGIN:STANDARD
TZOFFSETFROM:-0400
TZOFFSETTO:-0500
TZNAME:EST
DTSTART:20221106T060000
END:STANDARD
BEGIN:DAYLIGHT
TZOFFSETFROM:-0500
TZOFFSETTO:-0400
TZNAME:EDT
DTSTART:20230312T070000
END:DAYLIGHT
BEGIN:STANDARD
TZOFFSETFROM:-0400
TZOFFSETTO:-0500
TZNAME:EST
DTSTART:20231105T060000
END:STANDARD
END:VTIMEZONE
BEGIN:VEVENT
DTSTART;TZID=America/New_York:20220227T190000
DTEND;TZID=America/New_York:20220227T223000
DTSTAMP:20260424T152213
CREATED:20220109T220513Z
LAST-MODIFIED:20220115T181740Z
UID:27675-1645988400-1646001000@thevelvetnote.com
SUMMARY:Sunday\, February 27th:  Wildmann's Trilogy
DESCRIPTION:Michael Rainer aka Wildmann has been in the music business for over thirty years.  He’s a pro bassist\, but can also play keyboard\, drums\, lead guitar and upright bass and he sings as well.  He has toured with and opened for many major artist\, \n\nJill Scott\, KC and Jo Jo\, Chrisette Michele\, blues legend James Armstrong. He has been the music director for artist such at Carl Thomas\, Tweet\, KeKe Wyatt\, Leandrea Johnson\, Jewell and Converted and gospel well known Kim Burell . He is CEO of his record label RAINDROP RECORDS.  He has written and produced songs and projects for major and local artist as well. \n\n*Wildmann is from St. Louis\, Mo but now resides in Atlanta\, GA. where he is now making his mark throughout the state of Georgia.  He also teaches music in Powder Springs\, GA at a store called Music Guru. His students range  \n\nfrom 4years old and up.  He has his own band called Wildmann & the FunkySoul Band\, they are in the studio recording their new project now. 
URL:https://thevelvetnote.com/event/sunday-january-16th-wildmanns-trilogy/
LOCATION:The Velvet Note Main Stage\, 4075 Old Milton Parkway\, Alpharetta\, 30005\, United States
ATTACH;FMTTYPE=image/jpeg:https://thevelvetnote.com/wp-content/uploads/2022/01/123_1.jpeg
END:VEVENT
END:VCALENDAR