BEGIN:VCALENDAR
VERSION:2.0
PRODID:-//The Velvet Note - ECPv6.15.20//NONSGML v1.0//EN
CALSCALE:GREGORIAN
METHOD:PUBLISH
X-WR-CALNAME:The Velvet Note
X-ORIGINAL-URL:https://thevelvetnote.com
X-WR-CALDESC:Events for The Velvet Note
REFRESH-INTERVAL;VALUE=DURATION:PT1H
X-Robots-Tag:noindex
X-PUBLISHED-TTL:PT1H
BEGIN:VTIMEZONE
TZID:America/New_York
BEGIN:DAYLIGHT
TZOFFSETFROM:-0500
TZOFFSETTO:-0400
TZNAME:EDT
DTSTART:20210314T070000
END:DAYLIGHT
BEGIN:STANDARD
TZOFFSETFROM:-0400
TZOFFSETTO:-0500
TZNAME:EST
DTSTART:20211107T060000
END:STANDARD
BEGIN:DAYLIGHT
TZOFFSETFROM:-0500
TZOFFSETTO:-0400
TZNAME:EDT
DTSTART:20220313T070000
END:DAYLIGHT
BEGIN:STANDARD
TZOFFSETFROM:-0400
TZOFFSETTO:-0500
TZNAME:EST
DTSTART:20221106T060000
END:STANDARD
BEGIN:DAYLIGHT
TZOFFSETFROM:-0500
TZOFFSETTO:-0400
TZNAME:EDT
DTSTART:20230312T070000
END:DAYLIGHT
BEGIN:STANDARD
TZOFFSETFROM:-0400
TZOFFSETTO:-0500
TZNAME:EST
DTSTART:20231105T060000
END:STANDARD
END:VTIMEZONE
BEGIN:VEVENT
DTSTART;TZID=America/New_York:20220206T190000
DTEND;TZID=America/New_York:20220206T203000
DTSTAMP:20260424T152149
CREATED:20220124T211506Z
LAST-MODIFIED:20220124T211507Z
UID:27710-1644174000-1644179400@thevelvetnote.com
SUMMARY:Sunday\, February 6th:  Legends of Jazz Presents Chick Corea's Light as a Feather
DESCRIPTION:The Velvet Note presents another segment of its ninth series of Legends of Jazz\, featuring the music of Chick Corea’s Light as a Feather. As with the entire monthly Legends of Jazz series\, The Justin Varnes Quartet will guide guests–in engaging\, narrative form– through the life and music of this iconic\, recently departed pianist/composer. It’s like taking in a concert and taking a jazz history class at the same time\, and…\, oh… they’ll also play their behinds off!​ 
URL:https://thevelvetnote.com/event/sunday-february-6th-legends-of-jazz-presents-chick-coreas-light-as-a-feather/
LOCATION:The Velvet Note Main Stage\, 4075 Old Milton Parkway\, Alpharetta\, 30005\, United States
ATTACH;FMTTYPE=image/jpeg:https://thevelvetnote.com/wp-content/uploads/2022/01/B2E3ECC5-A2C7-45B9-BB4B-FAB90C484F48.jpeg
END:VEVENT
END:VCALENDAR