BEGIN:VCALENDAR
VERSION:2.0
PRODID:-//The Velvet Note - ECPv6.15.20//NONSGML v1.0//EN
CALSCALE:GREGORIAN
METHOD:PUBLISH
X-WR-CALNAME:The Velvet Note
X-ORIGINAL-URL:https://thevelvetnote.com
X-WR-CALDESC:Events for The Velvet Note
REFRESH-INTERVAL;VALUE=DURATION:PT1H
X-Robots-Tag:noindex
X-PUBLISHED-TTL:PT1H
BEGIN:VTIMEZONE
TZID:America/New_York
BEGIN:DAYLIGHT
TZOFFSETFROM:-0500
TZOFFSETTO:-0400
TZNAME:EDT
DTSTART:20210314T070000
END:DAYLIGHT
BEGIN:STANDARD
TZOFFSETFROM:-0400
TZOFFSETTO:-0500
TZNAME:EST
DTSTART:20211107T060000
END:STANDARD
BEGIN:DAYLIGHT
TZOFFSETFROM:-0500
TZOFFSETTO:-0400
TZNAME:EDT
DTSTART:20220313T070000
END:DAYLIGHT
BEGIN:STANDARD
TZOFFSETFROM:-0400
TZOFFSETTO:-0500
TZNAME:EST
DTSTART:20221106T060000
END:STANDARD
BEGIN:DAYLIGHT
TZOFFSETFROM:-0500
TZOFFSETTO:-0400
TZNAME:EDT
DTSTART:20230312T070000
END:DAYLIGHT
BEGIN:STANDARD
TZOFFSETFROM:-0400
TZOFFSETTO:-0500
TZNAME:EST
DTSTART:20231105T060000
END:STANDARD
END:VTIMEZONE
BEGIN:VEVENT
DTSTART;TZID=America/New_York:20220128T193000
DTEND;TZID=America/New_York:20220128T230000
DTSTAMP:20260424T164106
CREATED:20211222T051057Z
LAST-MODIFIED:20220125T174219Z
UID:27657-1643398200-1643410800@thevelvetnote.com
SUMMARY:Friday\, January 28th:  The Emmanuel Smith Trio
DESCRIPTION:Emmanuel “Chops” Smith is a pianist and vocalist who has been performing professionally since he was 15 years old. He has been playing piano since age 3 and has been trained in classical\, jazz\, and contemporary music. “Chops” has performed in venues all over the Southeast including The Rialto Center of the Performing Arts\, The Margaret Mitchell House\, The Georgian Terrace Hotel\, The Georgia Aquarium\, Churchill Grounds\, The Velvet Note\, The Red Clay Theater. He has also had the pleasure and privilege to perform with Russell Malone\, Chris Potter\, Sarah Partridge and work with many different jazz personalities including Gary and Veronica Motley\, Theresa Hightower\, Mike Abene\, Bobby Shew\, Paquito D’Rivera\, Kenny Werner\, Bob Franceschini\, Bob Reynolds and Randy Brecker. \n\n\n\nAfter receiving his Jazz Studies degree from Georgia State University\, “Chops”became the current Music Director for North Decatur United Methodist Church and Faith Forward Church. He prides himself as a pianist that crosses multiple genres. Including the churches he works on a regular basis\, he travels all over the Southeast\, United States and performs in bands based out of Atlanta\, GA including the Nick Longo Band\, Artimus and Big Bling and the Funk Machine (Music Gardens). He continues to build a reputation as a bandleader with his two bands\, The CHOPS Experience and the Emmanuel “Chops” Smith Trio.
URL:https://thevelvetnote.com/event/friday-january-28th-the-emmanuel-smith-trio/
LOCATION:The Velvet Note Main Stage\, 4075 Old Milton Parkway\, Alpharetta\, 30005\, United States
ATTACH;FMTTYPE=image/jpeg:https://thevelvetnote.com/wp-content/uploads/2021/12/718F66CF-24BD-45BE-9968-51B7F3E99983.jpeg
END:VEVENT
END:VCALENDAR