BEGIN:VCALENDAR
VERSION:2.0
PRODID:-//The Velvet Note - ECPv6.15.20//NONSGML v1.0//EN
CALSCALE:GREGORIAN
METHOD:PUBLISH
X-ORIGINAL-URL:https://thevelvetnote.com
X-WR-CALDESC:Events for The Velvet Note
REFRESH-INTERVAL;VALUE=DURATION:PT1H
X-Robots-Tag:noindex
X-PUBLISHED-TTL:PT1H
BEGIN:VTIMEZONE
TZID:America/New_York
BEGIN:DAYLIGHT
TZOFFSETFROM:-0500
TZOFFSETTO:-0400
TZNAME:EDT
DTSTART:20210314T070000
END:DAYLIGHT
BEGIN:STANDARD
TZOFFSETFROM:-0400
TZOFFSETTO:-0500
TZNAME:EST
DTSTART:20211107T060000
END:STANDARD
BEGIN:DAYLIGHT
TZOFFSETFROM:-0500
TZOFFSETTO:-0400
TZNAME:EDT
DTSTART:20220313T070000
END:DAYLIGHT
BEGIN:STANDARD
TZOFFSETFROM:-0400
TZOFFSETTO:-0500
TZNAME:EST
DTSTART:20221106T060000
END:STANDARD
BEGIN:DAYLIGHT
TZOFFSETFROM:-0500
TZOFFSETTO:-0400
TZNAME:EDT
DTSTART:20230312T070000
END:DAYLIGHT
BEGIN:STANDARD
TZOFFSETFROM:-0400
TZOFFSETTO:-0500
TZNAME:EST
DTSTART:20231105T060000
END:STANDARD
END:VTIMEZONE
BEGIN:VEVENT
DTSTART;TZID=America/New_York:20220122T193000
DTEND;TZID=America/New_York:20220122T230000
DTSTAMP:20260424T165734
CREATED:20211222T034505Z
LAST-MODIFIED:20211222T034514Z
UID:27650-1642879800-1642892400@thevelvetnote.com
SUMMARY:Saturday\, January 22nd:  Saunders Sermons' Soulful Night of Jazz
DESCRIPTION:Born and raised in Miami Florida Saunders Sermons II is an American singer\, trombonist\, and song writer. Sermons has toured with Maxwell\, Jay Z\, Diddy and Jazz R&B saxophonist Mike Phillips just to name a few.  \n\n\n\n\n\n\n\nHe received his GRAMMY Awards for his horn arrangement work with R&B/Soul singer Maxwell and Blues Super group The Tedeschi Trucks Band. Since then he has grown to become an established independent artist with an admirable music career.
URL:https://thevelvetnote.com/event/saturday-january-22nd-saunders-sermons-soulful-night-of-jazz/
LOCATION:The Velvet Note Main Stage\, 4075 Old Milton Parkway\, Alpharetta\, 30005\, United States
ATTACH;FMTTYPE=image/jpeg:https://thevelvetnote.com/wp-content/uploads/2021/12/055D0EBD-BB36-46A1-A9B5-52C8C8188ADD_4_5005_c.jpeg
END:VEVENT
END:VCALENDAR