BEGIN:VCALENDAR
VERSION:2.0
PRODID:-//The Velvet Note - ECPv6.15.20//NONSGML v1.0//EN
CALSCALE:GREGORIAN
METHOD:PUBLISH
X-WR-CALNAME:The Velvet Note
X-ORIGINAL-URL:https://thevelvetnote.com
X-WR-CALDESC:Events for The Velvet Note
REFRESH-INTERVAL;VALUE=DURATION:PT1H
X-Robots-Tag:noindex
X-PUBLISHED-TTL:PT1H
BEGIN:VTIMEZONE
TZID:America/New_York
BEGIN:DAYLIGHT
TZOFFSETFROM:-0500
TZOFFSETTO:-0400
TZNAME:EDT
DTSTART:20210314T070000
END:DAYLIGHT
BEGIN:STANDARD
TZOFFSETFROM:-0400
TZOFFSETTO:-0500
TZNAME:EST
DTSTART:20211107T060000
END:STANDARD
BEGIN:DAYLIGHT
TZOFFSETFROM:-0500
TZOFFSETTO:-0400
TZNAME:EDT
DTSTART:20220313T070000
END:DAYLIGHT
BEGIN:STANDARD
TZOFFSETFROM:-0400
TZOFFSETTO:-0500
TZNAME:EST
DTSTART:20221106T060000
END:STANDARD
BEGIN:DAYLIGHT
TZOFFSETFROM:-0500
TZOFFSETTO:-0400
TZNAME:EDT
DTSTART:20230312T070000
END:DAYLIGHT
BEGIN:STANDARD
TZOFFSETFROM:-0400
TZOFFSETTO:-0500
TZNAME:EST
DTSTART:20231105T060000
END:STANDARD
END:VTIMEZONE
BEGIN:VEVENT
DTSTART;TZID=America/New_York:20220120T200000
DTEND;TZID=America/New_York:20220120T230000
DTSTAMP:20260424T165051
CREATED:20220115T162322Z
LAST-MODIFIED:20220118T223003Z
UID:27682-1642708800-1642719600@thevelvetnote.com
SUMMARY:Thursday\, January 20th:  Open Mic Jam Hosted by Natasha Brown
DESCRIPTION:Have you tried OPEN MIC JAZZ JAM at Atlanta area’s #1 rated jazz club? . It’s like karaoke\, but much\, much better. Come out to The Velvet Note and listen to or jam with our extraordinary house band\, including piano virtuoso Randy Hoexter\, bassist Andre Manga\, world drummer Yakou N’Guesson\, and guitarist Bill Hart. Come hungry– we are rolling out our delicious house specialities for the week on Thursdays. Hosted by Singer Natasha Brown. 
URL:https://thevelvetnote.com/event/thursday-january-20th-open-mic-jam-hosted-by-natasha-brown/
LOCATION:The Velvet Note Main Stage\, 4075 Old Milton Parkway\, Alpharetta\, 30005\, United States
ATTACH;FMTTYPE=image/jpeg:https://thevelvetnote.com/wp-content/uploads/2022/01/Relax-in-the-audience-or-take-the-stage-5.jpg
END:VEVENT
END:VCALENDAR